BEGIN:VCALENDAR
VERSION:2.0
PRODID:-//DU FÄHRST - ECPv6.15.18//NONSGML v1.0//EN
CALSCALE:GREGORIAN
METHOD:PUBLISH
X-ORIGINAL-URL:https://xn--dufhrst-7wa.de
X-WR-CALDESC:Veranstaltungen für DU FÄHRST
REFRESH-INTERVAL;VALUE=DURATION:PT1H
X-Robots-Tag:noindex
X-PUBLISHED-TTL:PT1H
BEGIN:VTIMEZONE
TZID:Europe/Berlin
BEGIN:DAYLIGHT
TZOFFSETFROM:+0100
TZOFFSETTO:+0200
TZNAME:CEST
DTSTART:20250330T010000
END:DAYLIGHT
BEGIN:STANDARD
TZOFFSETFROM:+0200
TZOFFSETTO:+0100
TZNAME:CET
DTSTART:20251026T010000
END:STANDARD
BEGIN:DAYLIGHT
TZOFFSETFROM:+0100
TZOFFSETTO:+0200
TZNAME:CEST
DTSTART:20260329T010000
END:DAYLIGHT
BEGIN:STANDARD
TZOFFSETFROM:+0200
TZOFFSETTO:+0100
TZNAME:CET
DTSTART:20261025T010000
END:STANDARD
BEGIN:DAYLIGHT
TZOFFSETFROM:+0100
TZOFFSETTO:+0200
TZNAME:CEST
DTSTART:20270328T010000
END:DAYLIGHT
BEGIN:STANDARD
TZOFFSETFROM:+0200
TZOFFSETTO:+0100
TZNAME:CET
DTSTART:20271031T010000
END:STANDARD
END:VTIMEZONE
BEGIN:VEVENT
DTSTART;TZID=Europe/Berlin:20260716T184500
DTEND;TZID=Europe/Berlin:20260716T201500
DTSTAMP:20260420T225922
CREATED:20251021T071127Z
LAST-MODIFIED:20251021T071127Z
UID:10005039-1784227500-1784232900@xn--dufhrst-7wa.de
SUMMARY:Elverdisser Str. Unterricht Thema A2
DESCRIPTION:Fahrtechnik und Fahrphysik
URL:https://xn--dufhrst-7wa.de/termin/elverdisser-str-unterricht-thema-a2-7/
LOCATION:Elverdisser Str. 53 – 55 32052 Herford
END:VEVENT
BEGIN:VEVENT
DTSTART;TZID=Europe/Berlin:20260717T170000
DTEND;TZID=Europe/Berlin:20260717T183000
DTSTAMP:20260420T225922
CREATED:20251021T071215Z
LAST-MODIFIED:20251021T071215Z
UID:10005040-1784307600-1784313000@xn--dufhrst-7wa.de
SUMMARY:Elverdisser Str. Unterricht Thema A3
DESCRIPTION:Besondere Schwierigkeiten und Gefahren
URL:https://xn--dufhrst-7wa.de/termin/elverdisser-str-unterricht-thema-a3-7/
LOCATION:Elverdisser Str. 53 – 55 32052 Herford
END:VEVENT
BEGIN:VEVENT
DTSTART;TZID=Europe/Berlin:20260717T184500
DTEND;TZID=Europe/Berlin:20260717T201500
DTSTAMP:20260420T225922
CREATED:20251021T071247Z
LAST-MODIFIED:20251021T071247Z
UID:10005041-1784313900-1784319300@xn--dufhrst-7wa.de
SUMMARY:Elverdisser Str. Unterricht Thema A4
DESCRIPTION:Besonderes Verhalten beim Motorradfahren
URL:https://xn--dufhrst-7wa.de/termin/elverdisser-str-unterricht-thema-a4-7/
LOCATION:Elverdisser Str. 53 – 55 32052 Herford
END:VEVENT
BEGIN:VEVENT
DTSTART;TZID=Europe/Berlin:20260802T100000
DTEND;TZID=Europe/Berlin:20260802T173000
DTSTAMP:20260420T225922
CREATED:20251021T114935Z
LAST-MODIFIED:20251021T114935Z
UID:10005075-1785664800-1785691800@xn--dufhrst-7wa.de
SUMMARY:Erste Hilfe Kurs (Voranmeldung erforderlich)
DESCRIPTION:
URL:https://xn--dufhrst-7wa.de/termin/erste-hilfe-kurs-voranmeldung-erforderlich-10/
LOCATION:Elverdisser Str. 53 – 55 32052 Herford
END:VEVENT
BEGIN:VEVENT
DTSTART;TZID=Europe/Berlin:20260813T170000
DTEND;TZID=Europe/Berlin:20260813T183000
DTSTAMP:20260420T225922
CREATED:20251021T071324Z
LAST-MODIFIED:20251021T071324Z
UID:10005042-1786640400-1786645800@xn--dufhrst-7wa.de
SUMMARY:Elverdisser Str. Unterricht Thema A1
DESCRIPTION:Fahrer/Beifahrer\, Fahrzeug
URL:https://xn--dufhrst-7wa.de/termin/elverdisser-str-unterricht-thema-a1-8/
LOCATION:Elverdisser Str. 53 – 55 32052 Herford
END:VEVENT
BEGIN:VEVENT
DTSTART;TZID=Europe/Berlin:20260813T184500
DTEND;TZID=Europe/Berlin:20260813T201500
DTSTAMP:20260420T225922
CREATED:20251021T071354Z
LAST-MODIFIED:20251021T071354Z
UID:10005043-1786646700-1786652100@xn--dufhrst-7wa.de
SUMMARY:Elverdisser Str. Unterricht Thema A2
DESCRIPTION:Fahrtechnik und Fahrphysik
URL:https://xn--dufhrst-7wa.de/termin/elverdisser-str-unterricht-thema-a2-8/
LOCATION:Elverdisser Str. 53 – 55 32052 Herford
END:VEVENT
BEGIN:VEVENT
DTSTART;TZID=Europe/Berlin:20260814T170000
DTEND;TZID=Europe/Berlin:20260814T183000
DTSTAMP:20260420T225922
CREATED:20251021T071424Z
LAST-MODIFIED:20251021T071424Z
UID:10005044-1786726800-1786732200@xn--dufhrst-7wa.de
SUMMARY:Elverdisser Str. Unterricht Thema A3
DESCRIPTION:Besondere Schwierigkeiten und Gefahren
URL:https://xn--dufhrst-7wa.de/termin/elverdisser-str-unterricht-thema-a3-8/
LOCATION:Elverdisser Str. 53 – 55 32052 Herford
END:VEVENT
BEGIN:VEVENT
DTSTART;TZID=Europe/Berlin:20260814T184500
DTEND;TZID=Europe/Berlin:20260814T201500
DTSTAMP:20260420T225922
CREATED:20251021T071500Z
LAST-MODIFIED:20251021T071500Z
UID:10005045-1786733100-1786738500@xn--dufhrst-7wa.de
SUMMARY:Elverdisser Str. Unterricht Thema A4
DESCRIPTION:Besonderes Verhalten beim Motorradfahren
URL:https://xn--dufhrst-7wa.de/termin/elverdisser-str-unterricht-thema-a4-8/
LOCATION:Elverdisser Str. 53 – 55 32052 Herford
END:VEVENT
BEGIN:VEVENT
DTSTART;TZID=Europe/Berlin:20260906T100000
DTEND;TZID=Europe/Berlin:20260906T173000
DTSTAMP:20260420T225922
CREATED:20251021T115009Z
LAST-MODIFIED:20251021T115009Z
UID:10005076-1788688800-1788715800@xn--dufhrst-7wa.de
SUMMARY:Erste Hilfe Kurs (Voranmeldung erforderlich)
DESCRIPTION:
URL:https://xn--dufhrst-7wa.de/termin/erste-hilfe-kurs-voranmeldung-erforderlich-11/
LOCATION:Elverdisser Str. 53 – 55 32052 Herford
END:VEVENT
BEGIN:VEVENT
DTSTART;TZID=Europe/Berlin:20260907T180000
DTEND;TZID=Europe/Berlin:20260907T200000
DTSTAMP:20260420T225922
CREATED:20251021T091743Z
LAST-MODIFIED:20251021T091743Z
UID:10005066-1788804000-1788811200@xn--dufhrst-7wa.de
SUMMARY:Aufbauseminar
DESCRIPTION:
URL:https://xn--dufhrst-7wa.de/termin/aufbauseminar-5/
LOCATION:Elverdisser Str. 53 – 55 32052 Herford
END:VEVENT
BEGIN:VEVENT
DTSTART;TZID=Europe/Berlin:20260917T170000
DTEND;TZID=Europe/Berlin:20260917T183000
DTSTAMP:20260420T225922
CREATED:20251021T071601Z
LAST-MODIFIED:20251021T071601Z
UID:10005046-1789664400-1789669800@xn--dufhrst-7wa.de
SUMMARY:Elverdisser Str. Unterricht Thema A1
DESCRIPTION:Fahrer/Beifahrer\, Fahrzeug
URL:https://xn--dufhrst-7wa.de/termin/elverdisser-str-unterricht-thema-a1-9/
LOCATION:Elverdisser Str. 53 – 55 32052 Herford
END:VEVENT
BEGIN:VEVENT
DTSTART;TZID=Europe/Berlin:20260917T184500
DTEND;TZID=Europe/Berlin:20260917T201500
DTSTAMP:20260420T225922
CREATED:20251021T071643Z
LAST-MODIFIED:20251021T071643Z
UID:10005047-1789670700-1789676100@xn--dufhrst-7wa.de
SUMMARY:Elverdisser Str. Unterricht Thema A2
DESCRIPTION:Fahrtechnik und Fahrphysik
URL:https://xn--dufhrst-7wa.de/termin/elverdisser-str-unterricht-thema-a2-9/
LOCATION:Elverdisser Str. 53 – 55 32052 Herford
END:VEVENT
BEGIN:VEVENT
DTSTART;TZID=Europe/Berlin:20260918T170000
DTEND;TZID=Europe/Berlin:20260918T183000
DTSTAMP:20260420T225922
CREATED:20251021T071740Z
LAST-MODIFIED:20251021T071740Z
UID:10005048-1789750800-1789756200@xn--dufhrst-7wa.de
SUMMARY:Elverdisser Str. Unterricht Thema A3
DESCRIPTION:Besondere Schwierigkeiten und Gefahren
URL:https://xn--dufhrst-7wa.de/termin/elverdisser-str-unterricht-thema-a3-9/
LOCATION:Elverdisser Str. 53 – 55 32052 Herford
END:VEVENT
BEGIN:VEVENT
DTSTART;TZID=Europe/Berlin:20260918T184500
DTEND;TZID=Europe/Berlin:20260918T201500
DTSTAMP:20260420T225922
CREATED:20251021T071905Z
LAST-MODIFIED:20251021T071905Z
UID:10005049-1789757100-1789762500@xn--dufhrst-7wa.de
SUMMARY:Elverdisser Str. Unterricht Thema A4
DESCRIPTION:Besonderes Verhalten beim Motorradfahren
URL:https://xn--dufhrst-7wa.de/termin/elverdisser-str-unterricht-thema-a4-9/
LOCATION:Elverdisser Str. 53 – 55 32052 Herford
END:VEVENT
BEGIN:VEVENT
DTSTART;TZID=Europe/Berlin:20261011T100000
DTEND;TZID=Europe/Berlin:20261011T173000
DTSTAMP:20260420T225922
CREATED:20251021T115039Z
LAST-MODIFIED:20251021T115039Z
UID:10005077-1791712800-1791739800@xn--dufhrst-7wa.de
SUMMARY:Erste Hilfe Kurs (Voranmeldung erforderlich)
DESCRIPTION:
URL:https://xn--dufhrst-7wa.de/termin/erste-hilfe-kurs-voranmeldung-erforderlich-12/
LOCATION:Elverdisser Str. 53 – 55 32052 Herford
END:VEVENT
BEGIN:VEVENT
DTSTART;TZID=Europe/Berlin:20261015T170000
DTEND;TZID=Europe/Berlin:20261015T183000
DTSTAMP:20260420T225922
CREATED:20251021T084335Z
LAST-MODIFIED:20251021T104205Z
UID:10005050-1792083600-1792089000@xn--dufhrst-7wa.de
SUMMARY:Elverdisser Str. Unterricht Thema A1
DESCRIPTION:Fahrer/Beifahrer\, Fahrzeug
URL:https://xn--dufhrst-7wa.de/termin/elverdisser-str-unterricht-thema-a1-10/
LOCATION:Elverdisser Str. 53 – 55 32052 Herford
END:VEVENT
BEGIN:VEVENT
DTSTART;TZID=Europe/Berlin:20261015T184500
DTEND;TZID=Europe/Berlin:20261015T201500
DTSTAMP:20260420T225922
CREATED:20251021T084426Z
LAST-MODIFIED:20251021T084426Z
UID:10005051-1792089900-1792095300@xn--dufhrst-7wa.de
SUMMARY:Elverdisser Str. Unterricht Thema A2
DESCRIPTION:Fahrtechnik und Fahrphysik
URL:https://xn--dufhrst-7wa.de/termin/elverdisser-str-unterricht-thema-a2-10/
LOCATION:Elverdisser Str. 53 – 55 32052 Herford
END:VEVENT
BEGIN:VEVENT
DTSTART;TZID=Europe/Berlin:20261016T170000
DTEND;TZID=Europe/Berlin:20261016T183000
DTSTAMP:20260420T225922
CREATED:20251021T084516Z
LAST-MODIFIED:20251021T084516Z
UID:10005052-1792170000-1792175400@xn--dufhrst-7wa.de
SUMMARY:Elverdisser Str. Unterricht Thema A3
DESCRIPTION:Besondere Schwierigkeiten und Gefahren
URL:https://xn--dufhrst-7wa.de/termin/elverdisser-str-unterricht-thema-a3-10/
LOCATION:Elverdisser Str. 53 – 55 32052 Herford
END:VEVENT
BEGIN:VEVENT
DTSTART;TZID=Europe/Berlin:20261016T184500
DTEND;TZID=Europe/Berlin:20261016T201500
DTSTAMP:20260420T225922
CREATED:20251021T084633Z
LAST-MODIFIED:20251021T084633Z
UID:10005053-1792176300-1792181700@xn--dufhrst-7wa.de
SUMMARY:Elverdisser Str. Unterricht Thema A4
DESCRIPTION:Besonderes Verhalten beim Motorradfahren
URL:https://xn--dufhrst-7wa.de/termin/elverdisser-str-unterricht-thema-a4-10/
LOCATION:Elverdisser Str. 53 – 55 32052 Herford
END:VEVENT
BEGIN:VEVENT
DTSTART;TZID=Europe/Berlin:20261102T180000
DTEND;TZID=Europe/Berlin:20261102T200000
DTSTAMP:20260420T225922
CREATED:20251021T091809Z
LAST-MODIFIED:20251021T091809Z
UID:10005067-1793642400-1793649600@xn--dufhrst-7wa.de
SUMMARY:Aufbauseminar
DESCRIPTION:
URL:https://xn--dufhrst-7wa.de/termin/aufbauseminar-6/
LOCATION:Elverdisser Str. 53 – 55 32052 Herford
END:VEVENT
BEGIN:VEVENT
DTSTART;TZID=Europe/Berlin:20261108T100000
DTEND;TZID=Europe/Berlin:20261108T173000
DTSTAMP:20260420T225922
CREATED:20251021T115212Z
LAST-MODIFIED:20251021T115212Z
UID:10005078-1794132000-1794159000@xn--dufhrst-7wa.de
SUMMARY:Erste Hilfe Kurs (Voranmeldung erforderlich)
DESCRIPTION:
URL:https://xn--dufhrst-7wa.de/termin/erste-hilfe-kurs-voranmeldung-erforderlich-13/
LOCATION:Elverdisser Str. 53 – 55 32052 Herford
END:VEVENT
BEGIN:VEVENT
DTSTART;TZID=Europe/Berlin:20261119T170000
DTEND;TZID=Europe/Berlin:20261119T200000
DTSTAMP:20260420T225922
CREATED:20251021T085906Z
LAST-MODIFIED:20251021T085906Z
UID:10005054-1795107600-1795118400@xn--dufhrst-7wa.de
SUMMARY:Elverdisser Str. Unterricht Thema A1
DESCRIPTION:Fahrer/Beifahrer\, Fahrzeug
URL:https://xn--dufhrst-7wa.de/termin/elverdisser-str-unterricht-thema-a1-11/
LOCATION:Elverdisser Str. 53 – 55 32052 Herford
END:VEVENT
BEGIN:VEVENT
DTSTART;TZID=Europe/Berlin:20261119T184500
DTEND;TZID=Europe/Berlin:20261119T201500
DTSTAMP:20260420T225922
CREATED:20251021T090007Z
LAST-MODIFIED:20251021T090007Z
UID:10005055-1795113900-1795119300@xn--dufhrst-7wa.de
SUMMARY:Elverdisser Str. Unterricht Thema A2
DESCRIPTION:Fahrtechnik und Fahrphysik
URL:https://xn--dufhrst-7wa.de/termin/elverdisser-str-unterricht-thema-a2-11/
LOCATION:Elverdisser Str. 53 – 55 32052 Herford
END:VEVENT
BEGIN:VEVENT
DTSTART;TZID=Europe/Berlin:20261120T170000
DTEND;TZID=Europe/Berlin:20261120T183000
DTSTAMP:20260420T225922
CREATED:20251021T090042Z
LAST-MODIFIED:20251021T090042Z
UID:10005056-1795194000-1795199400@xn--dufhrst-7wa.de
SUMMARY:Elverdisser Str. Unterricht Thema A3
DESCRIPTION:Besondere Schwierigkeiten und Gefahren
URL:https://xn--dufhrst-7wa.de/termin/elverdisser-str-unterricht-thema-a3-11/
LOCATION:Elverdisser Str. 53 – 55 32052 Herford
END:VEVENT
BEGIN:VEVENT
DTSTART;TZID=Europe/Berlin:20261120T184500
DTEND;TZID=Europe/Berlin:20261120T201500
DTSTAMP:20260420T225922
CREATED:20251021T090113Z
LAST-MODIFIED:20251021T090113Z
UID:10005057-1795200300-1795205700@xn--dufhrst-7wa.de
SUMMARY:Elverdisser Str. Unterricht Thema A4
DESCRIPTION:Besonderes Verhalten beim Motorradfahren
URL:https://xn--dufhrst-7wa.de/termin/elverdisser-str-unterricht-thema-a4-11/
LOCATION:Elverdisser Str. 53 – 55 32052 Herford
END:VEVENT
BEGIN:VEVENT
DTSTART;TZID=Europe/Berlin:20261206T100000
DTEND;TZID=Europe/Berlin:20261206T173000
DTSTAMP:20260420T225922
CREATED:20251021T115237Z
LAST-MODIFIED:20251021T115237Z
UID:10005079-1796551200-1796578200@xn--dufhrst-7wa.de
SUMMARY:Erste Hilfe Kurs (Voranmeldung erforderlich)
DESCRIPTION:
URL:https://xn--dufhrst-7wa.de/termin/erste-hilfe-kurs-voranmeldung-erforderlich-14/
LOCATION:Elverdisser Str. 53 – 55 32052 Herford
END:VEVENT
BEGIN:VEVENT
DTSTART;TZID=Europe/Berlin:20261217T170000
DTEND;TZID=Europe/Berlin:20261217T183000
DTSTAMP:20260420T225922
CREATED:20251021T090150Z
LAST-MODIFIED:20251021T090150Z
UID:10005058-1797526800-1797532200@xn--dufhrst-7wa.de
SUMMARY:Elverdisser Str. Unterricht Thema A1
DESCRIPTION:Fahrer/Beifahrer\, Fahrzeug
URL:https://xn--dufhrst-7wa.de/termin/elverdisser-str-unterricht-thema-a1-12/
LOCATION:Elverdisser Str. 53 – 55 32052 Herford
END:VEVENT
BEGIN:VEVENT
DTSTART;TZID=Europe/Berlin:20261217T184500
DTEND;TZID=Europe/Berlin:20261217T201500
DTSTAMP:20260420T225922
CREATED:20251021T090221Z
LAST-MODIFIED:20251021T090307Z
UID:10005059-1797533100-1797538500@xn--dufhrst-7wa.de
SUMMARY:Elverdisser Str. Unterricht Thema A2
DESCRIPTION:Fahrtechnik und Fahrphysik
URL:https://xn--dufhrst-7wa.de/termin/elverdisser-str-unterricht-thema-a2-12/
LOCATION:Elverdisser Str. 53 – 55 32052 Herford
END:VEVENT
BEGIN:VEVENT
DTSTART;TZID=Europe/Berlin:20261218T170000
DTEND;TZID=Europe/Berlin:20261218T183000
DTSTAMP:20260420T225922
CREATED:20251021T090330Z
LAST-MODIFIED:20251021T090330Z
UID:10005060-1797613200-1797618600@xn--dufhrst-7wa.de
SUMMARY:Elverdisser Str. Unterricht Thema A3
DESCRIPTION:Besondere Schwierigkeiten und Gefahren
URL:https://xn--dufhrst-7wa.de/termin/elverdisser-str-unterricht-thema-a3-12/
LOCATION:Elverdisser Str. 53 – 55 32052 Herford
END:VEVENT
BEGIN:VEVENT
DTSTART;TZID=Europe/Berlin:20261218T184500
DTEND;TZID=Europe/Berlin:20261218T201500
DTSTAMP:20260420T225922
CREATED:20251021T090402Z
LAST-MODIFIED:20251021T090402Z
UID:10005061-1797619500-1797624900@xn--dufhrst-7wa.de
SUMMARY:Elverdisser Str. Unterricht Thema A4
DESCRIPTION:Besonderes Verhalten beim Motorradfahren
URL:https://xn--dufhrst-7wa.de/termin/elverdisser-str-unterricht-thema-a4-12/
LOCATION:Elverdisser Str. 53 – 55 32052 Herford
END:VEVENT
END:VCALENDAR