BEGIN:VCALENDAR
VERSION:2.0
PRODID:-//DU FÄHRST - ECPv6.15.18//NONSGML v1.0//EN
CALSCALE:GREGORIAN
METHOD:PUBLISH
X-ORIGINAL-URL:https://xn--dufhrst-7wa.de
X-WR-CALDESC:Veranstaltungen für DU FÄHRST
REFRESH-INTERVAL;VALUE=DURATION:PT1H
X-Robots-Tag:noindex
X-PUBLISHED-TTL:PT1H
BEGIN:VTIMEZONE
TZID:Europe/Berlin
BEGIN:DAYLIGHT
TZOFFSETFROM:+0100
TZOFFSETTO:+0200
TZNAME:CEST
DTSTART:20250330T010000
END:DAYLIGHT
BEGIN:STANDARD
TZOFFSETFROM:+0200
TZOFFSETTO:+0100
TZNAME:CET
DTSTART:20251026T010000
END:STANDARD
BEGIN:DAYLIGHT
TZOFFSETFROM:+0100
TZOFFSETTO:+0200
TZNAME:CEST
DTSTART:20260329T010000
END:DAYLIGHT
BEGIN:STANDARD
TZOFFSETFROM:+0200
TZOFFSETTO:+0100
TZNAME:CET
DTSTART:20261025T010000
END:STANDARD
BEGIN:DAYLIGHT
TZOFFSETFROM:+0100
TZOFFSETTO:+0200
TZNAME:CEST
DTSTART:20270328T010000
END:DAYLIGHT
BEGIN:STANDARD
TZOFFSETFROM:+0200
TZOFFSETTO:+0100
TZNAME:CET
DTSTART:20271031T010000
END:STANDARD
END:VTIMEZONE
BEGIN:VEVENT
DTSTART;TZID=Europe/Berlin:20260324T183000
DTEND;TZID=Europe/Berlin:20260324T200000
DTSTAMP:20260420T211404
CREATED:20251218T140618Z
LAST-MODIFIED:20251218T140618Z
UID:10005143-1774377000-1774382400@xn--dufhrst-7wa.de
SUMMARY:Elverdisser Str. Herford Unterricht Thema 10
DESCRIPTION:Ruhender Verkehr
URL:https://xn--dufhrst-7wa.de/termin/elverdisser-str-herford-unterricht-thema-10/
LOCATION:Elverdisser Str. 53 – 55 32052 Herford
END:VEVENT
BEGIN:VEVENT
DTSTART;TZID=Europe/Berlin:20260324T183000
DTEND;TZID=Europe/Berlin:20260324T200000
DTSTAMP:20260420T211404
CREATED:20251218T103645Z
LAST-MODIFIED:20251218T103645Z
UID:10005102-1774377000-1774382400@xn--dufhrst-7wa.de
SUMMARY:Oldentruper Str. (Marktkauf) Bielefeld Unterricht Thema 8
DESCRIPTION:Andere Teilnehmer im Straßenverkehr: Besonderheiten und Verhalten
URL:https://xn--dufhrst-7wa.de/termin/oldentruper-str-marktkauf-bielefeld-unterricht-thema-8-3/
LOCATION:Oldentruper Str. 236\, 33719 Bielefeld
END:VEVENT
BEGIN:VEVENT
DTSTART;TZID=Europe/Berlin:20260323T183000
DTEND;TZID=Europe/Berlin:20260323T200000
DTSTAMP:20260420T211404
CREATED:20251222T154129Z
LAST-MODIFIED:20260122T080743Z
UID:10005266-1774290600-1774296000@xn--dufhrst-7wa.de
SUMMARY:Herforder Str. Bad Oeynhausen Unterricht Thema 10
DESCRIPTION:Ruhender Verkehr
URL:https://xn--dufhrst-7wa.de/termin/herforder-str-bad-oeynhausen-unterricht-thema-8-4/
LOCATION:Herforder Straße 82\, 32545 Bad Oeynhausen
END:VEVENT
BEGIN:VEVENT
DTSTART;TZID=Europe/Berlin:20260323T183000
DTEND;TZID=Europe/Berlin:20260323T200000
DTSTAMP:20260420T211404
CREATED:20251222T100222Z
LAST-MODIFIED:20251222T100222Z
UID:10005191-1774290600-1774296000@xn--dufhrst-7wa.de
SUMMARY:Osterstr. Bad Salzuflen Unterricht Thema 6
DESCRIPTION:Verkehrsreglungen/Bahnübergänge
URL:https://xn--dufhrst-7wa.de/termin/osterstr-bad-salzuflen-unterricht-thema-6-3/
LOCATION:Osterstr. 39\, 32105 Bad Salzuflen
END:VEVENT
BEGIN:VEVENT
DTSTART;TZID=Europe/Berlin:20260323T183000
DTEND;TZID=Europe/Berlin:20260323T200000
DTSTAMP:20260420T211404
CREATED:20251218T122849Z
LAST-MODIFIED:20251218T131834Z
UID:10005128-1774290600-1774296000@xn--dufhrst-7wa.de
SUMMARY:Rennstr. Herford Unterricht Thema 9
DESCRIPTION:Verkehrsverhalten bei Fahrmanövern\, Verkehrsbeobachtung
URL:https://xn--dufhrst-7wa.de/termin/intensivkurs-rennstr-herford-unterricht-thema-9-3/
LOCATION:Rennstr. 11\, 32052 Herford
END:VEVENT
BEGIN:VEVENT
DTSTART;TZID=Europe/Berlin:20260321T133000
DTEND;TZID=Europe/Berlin:20260321T150000
DTSTAMP:20260420T211404
CREATED:20251218T154043Z
LAST-MODIFIED:20251223T141258Z
UID:10005167-1774099800-1774105200@xn--dufhrst-7wa.de
SUMMARY:Rennstr. Herford Unterricht Thema 8
DESCRIPTION:Andere Teilnehmer im Straßenverkehr: Besonderheiten und Verhalten
URL:https://xn--dufhrst-7wa.de/termin/intensivkurs-rennstr-herford-unterricht-thema-8-4/
LOCATION:Rennstr. 11\, 32052 Herford
END:VEVENT
BEGIN:VEVENT
DTSTART;TZID=Europe/Berlin:20260321T080000
DTEND;TZID=Europe/Berlin:20260321T160000
DTSTAMP:20260420T211404
CREATED:20260112T154055Z
LAST-MODIFIED:20260113T103714Z
UID:10005291-1774080000-1774108800@xn--dufhrst-7wa.de
SUMMARY:BKF-Weiterbildung: Modul 1-Eco-Training & Assistenzs (Voranmeldung erforderlich)
DESCRIPTION:Eco-Training & Assistenzs
URL:https://xn--dufhrst-7wa.de/termin/bkf-weiterbildung-modul-1-eco-training-assistenzs-voranmeldung-erforderlich/
LOCATION:Salzufler Str. 2 32108 Bad Salzuflen
END:VEVENT
BEGIN:VEVENT
DTSTART;TZID=Europe/Berlin:20260320T184500
DTEND;TZID=Europe/Berlin:20260320T201500
DTSTAMP:20260420T211404
CREATED:20251021T070102Z
LAST-MODIFIED:20251021T070102Z
UID:10005025-1774032300-1774037700@xn--dufhrst-7wa.de
SUMMARY:Elverdisser Str. Unterricht Thema A4
DESCRIPTION:Besonderes Verhalten beim Motorradfahren
URL:https://xn--dufhrst-7wa.de/termin/elverdisser-str-unterricht-thema-a4-3/
LOCATION:Elverdisser Str. 53 – 55 32052 Herford
END:VEVENT
BEGIN:VEVENT
DTSTART;TZID=Europe/Berlin:20260320T170000
DTEND;TZID=Europe/Berlin:20260320T183000
DTSTAMP:20260420T211404
CREATED:20251021T070027Z
LAST-MODIFIED:20251021T070027Z
UID:10005024-1774026000-1774031400@xn--dufhrst-7wa.de
SUMMARY:Elverdisser Str. Unterricht Thema A3
DESCRIPTION:Besondere Schwierigkeiten und Gefahren
URL:https://xn--dufhrst-7wa.de/termin/elverdisser-str-unterricht-thema-a3-3/
LOCATION:Elverdisser Str. 53 – 55 32052 Herford
END:VEVENT
END:VCALENDAR