BEGIN:VCALENDAR
VERSION:2.0
PRODID:-//DU FÄHRST - ECPv6.15.18//NONSGML v1.0//EN
CALSCALE:GREGORIAN
METHOD:PUBLISH
X-ORIGINAL-URL:https://xn--dufhrst-7wa.de
X-WR-CALDESC:Veranstaltungen für DU FÄHRST
REFRESH-INTERVAL;VALUE=DURATION:PT1H
X-Robots-Tag:noindex
X-PUBLISHED-TTL:PT1H
BEGIN:VTIMEZONE
TZID:Europe/Berlin
BEGIN:DAYLIGHT
TZOFFSETFROM:+0100
TZOFFSETTO:+0200
TZNAME:CEST
DTSTART:20250330T010000
END:DAYLIGHT
BEGIN:STANDARD
TZOFFSETFROM:+0200
TZOFFSETTO:+0100
TZNAME:CET
DTSTART:20251026T010000
END:STANDARD
BEGIN:DAYLIGHT
TZOFFSETFROM:+0100
TZOFFSETTO:+0200
TZNAME:CEST
DTSTART:20260329T010000
END:DAYLIGHT
BEGIN:STANDARD
TZOFFSETFROM:+0200
TZOFFSETTO:+0100
TZNAME:CET
DTSTART:20261025T010000
END:STANDARD
BEGIN:DAYLIGHT
TZOFFSETFROM:+0100
TZOFFSETTO:+0200
TZNAME:CEST
DTSTART:20270328T010000
END:DAYLIGHT
BEGIN:STANDARD
TZOFFSETFROM:+0200
TZOFFSETTO:+0100
TZNAME:CET
DTSTART:20271031T010000
END:STANDARD
END:VTIMEZONE
BEGIN:VEVENT
DTSTART;TZID=Europe/Berlin:20260522T170000
DTEND;TZID=Europe/Berlin:20260522T183000
DTSTAMP:20260422T124503
CREATED:20251021T070641Z
LAST-MODIFIED:20251021T070641Z
UID:10005032-1779469200-1779474600@xn--dufhrst-7wa.de
SUMMARY:Elverdisser Str. Unterricht Thema A3
DESCRIPTION:Besondere Schwierigkeiten und Gefahren
URL:https://xn--dufhrst-7wa.de/termin/elverdisser-str-unterricht-thema-a3-5/
LOCATION:Elverdisser Str. 53 – 55 32052 Herford
END:VEVENT
BEGIN:VEVENT
DTSTART;TZID=Europe/Berlin:20260522T184500
DTEND;TZID=Europe/Berlin:20260522T201500
DTSTAMP:20260422T124503
CREATED:20251021T070722Z
LAST-MODIFIED:20251021T070722Z
UID:10005033-1779475500-1779480900@xn--dufhrst-7wa.de
SUMMARY:Elverdisser Str. Unterricht Thema A4
DESCRIPTION:Besonderes Verhalten beim Motorradfahren
URL:https://xn--dufhrst-7wa.de/termin/elverdisser-str-unterricht-thema-a4-5/
LOCATION:Elverdisser Str. 53 – 55 32052 Herford
END:VEVENT
BEGIN:VEVENT
DTSTART;TZID=Europe/Berlin:20260526T183000
DTEND;TZID=Europe/Berlin:20260526T200000
DTSTAMP:20260422T124503
CREATED:20260319T071832Z
LAST-MODIFIED:20260319T071832Z
UID:10005334-1779820200-1779825600@xn--dufhrst-7wa.de
SUMMARY:Elverdisser Str. Herford Unterricht Thema 4
DESCRIPTION:Straßenverkehrssystem und seine Nutzung
URL:https://xn--dufhrst-7wa.de/termin/elverdisser-str-herford-unterricht-thema-4-3/
LOCATION:Elverdisser Str. 53 – 55 32052 Herford
END:VEVENT
BEGIN:VEVENT
DTSTART;TZID=Europe/Berlin:20260526T183000
DTEND;TZID=Europe/Berlin:20260526T200000
DTSTAMP:20260422T124503
CREATED:20260420T135737Z
LAST-MODIFIED:20260420T135737Z
UID:10005416-1779820200-1779825600@xn--dufhrst-7wa.de
SUMMARY:Oldentruper Str. (Marktkauf) Bielefeld Unterricht Thema 11
DESCRIPTION:Verhalten in besonderen Situationen
URL:https://xn--dufhrst-7wa.de/termin/oldentruper-str-marktkauf-bielefeld-unterricht-thema-11/
LOCATION:Oldentruper Str. 236\, 33719 Bielefeld
END:VEVENT
BEGIN:VEVENT
DTSTART;TZID=Europe/Berlin:20260528T183000
DTEND;TZID=Europe/Berlin:20260528T200000
DTSTAMP:20260422T124503
CREATED:20260318T144256Z
LAST-MODIFIED:20260318T144256Z
UID:10005324-1779993000-1779998400@xn--dufhrst-7wa.de
SUMMARY:Salzufler Str. Herford Unterricht Thema 6
DESCRIPTION:Verkehrsreglungen/Bahnübergänge
URL:https://xn--dufhrst-7wa.de/termin/salzufler-str-herford-unterricht-thema-6-3/
LOCATION:Salzufler Str. 147 32052 Herford\, Salzufler Str. 147\, Herford\, 32052
END:VEVENT
BEGIN:VEVENT
DTSTART;TZID=Europe/Berlin:20260528T183000
DTEND;TZID=Europe/Berlin:20260528T200000
DTSTAMP:20260422T124503
CREATED:20260420T135840Z
LAST-MODIFIED:20260420T135840Z
UID:10005417-1779993000-1779998400@xn--dufhrst-7wa.de
SUMMARY:Oldentruper Str. (Marktkauf) Bielefeld Unterricht Thema 12
DESCRIPTION:Lebenslanges Lernen/Folgen von Verstößen gegen Verkehrsvorschriften
URL:https://xn--dufhrst-7wa.de/termin/oldentruper-str-marktkauf-bielefeld-unterricht-thema-12-2/
LOCATION:Oldentruper Str. 236\, 33719 Bielefeld
END:VEVENT
BEGIN:VEVENT
DTSTART;TZID=Europe/Berlin:20260530T080000
DTEND;TZID=Europe/Berlin:20260530T160000
DTSTAMP:20260422T124503
CREATED:20260113T110541Z
LAST-MODIFIED:20260113T110541Z
UID:10005301-1780128000-1780156800@xn--dufhrst-7wa.de
SUMMARY:BKF-Weiterbildung: Modul 3-Gefahrenwahrnehmung (Voranmeldung erforderlich)
DESCRIPTION:Gefahrenwahrnehmung
URL:https://xn--dufhrst-7wa.de/termin/bkf-weiterbildung-modul-3-gefahrenwahrnehmung-voranmeldung-erforderlich-4/
LOCATION:Salzufler Str. 2 32108 Bad Salzuflen
END:VEVENT
BEGIN:VEVENT
DTSTART;TZID=Europe/Berlin:20260602T183000
DTEND;TZID=Europe/Berlin:20260602T200000
DTSTAMP:20260422T124503
CREATED:20260319T071959Z
LAST-MODIFIED:20260319T071959Z
UID:10005335-1780425000-1780430400@xn--dufhrst-7wa.de
SUMMARY:Elverdisser Str. Herford Unterricht Thema 9
DESCRIPTION:Verkehrsverhalten bei Fahrmanövern\, Verkehrsbeobachtung
URL:https://xn--dufhrst-7wa.de/termin/elverdisser-str-herford-unterricht-thema-9-3/
LOCATION:Elverdisser Str. 53 – 55 32052 Herford
END:VEVENT
BEGIN:VEVENT
DTSTART;TZID=Europe/Berlin:20260602T183000
DTEND;TZID=Europe/Berlin:20260602T200000
DTSTAMP:20260422T124503
CREATED:20260420T140021Z
LAST-MODIFIED:20260420T140021Z
UID:10005418-1780425000-1780430400@xn--dufhrst-7wa.de
SUMMARY:Oldentruper Str. (Marktkauf) Bielefeld Unterricht Thema B1
DESCRIPTION:Technische Bedingungen/umweltbewusster Umgang mit Kraftfahrzeugen
URL:https://xn--dufhrst-7wa.de/termin/oldentruper-str-marktkauf-bielefeld-unterricht-thema-b1-2/
LOCATION:Oldentruper Str. 236\, 33719 Bielefeld
END:VEVENT
BEGIN:VEVENT
DTSTART;TZID=Europe/Berlin:20260606T080000
DTEND;TZID=Europe/Berlin:20260606T160000
DTSTAMP:20260422T124503
CREATED:20260113T110815Z
LAST-MODIFIED:20260113T110815Z
UID:10005302-1780732800-1780761600@xn--dufhrst-7wa.de
SUMMARY:BKF-Weiterbildung: Modul 4-Schadensprävention (Voranmeldung erforderlich)
DESCRIPTION:Schadensprävention
URL:https://xn--dufhrst-7wa.de/termin/bkf-weiterbildung-modul-4-schadenspraevention-voranmeldung-erforderlich-3/
LOCATION:Salzufler Str. 2 32108 Bad Salzuflen
END:VEVENT
BEGIN:VEVENT
DTSTART;TZID=Europe/Berlin:20260607T100000
DTEND;TZID=Europe/Berlin:20260607T173000
DTSTAMP:20260422T124503
CREATED:20251021T114844Z
LAST-MODIFIED:20251021T114844Z
UID:10005073-1780826400-1780853400@xn--dufhrst-7wa.de
SUMMARY:Erste Hilfe Kurs (Voranmeldung erforderlich)
DESCRIPTION:
URL:https://xn--dufhrst-7wa.de/termin/erste-hilfe-kurs-voranmeldung-erforderlich-8/
LOCATION:Elverdisser Str. 53 – 55 32052 Herford
END:VEVENT
BEGIN:VEVENT
DTSTART;TZID=Europe/Berlin:20260609T183000
DTEND;TZID=Europe/Berlin:20260609T200000
DTSTAMP:20260422T124503
CREATED:20260319T072121Z
LAST-MODIFIED:20260319T072121Z
UID:10005336-1781029800-1781035200@xn--dufhrst-7wa.de
SUMMARY:Elverdisser Str. Herford Unterricht Thema B1
DESCRIPTION:Technische Bedingungen/umweltbewusster Umgang mit Kraftfahrzeugen
URL:https://xn--dufhrst-7wa.de/termin/elverdisser-str-herford-unterricht-thema-b1/
LOCATION:Elverdisser Str. 53 – 55 32052 Herford
END:VEVENT
BEGIN:VEVENT
DTSTART;TZID=Europe/Berlin:20260611T183000
DTEND;TZID=Europe/Berlin:20260611T200000
DTSTAMP:20260422T124503
CREATED:20260318T144510Z
LAST-MODIFIED:20260318T144510Z
UID:10005325-1781202600-1781208000@xn--dufhrst-7wa.de
SUMMARY:Salzufler Str. Herford Unterricht Thema 1
DESCRIPTION:Persönliche Voraussetzungen/Risikofaktor Mensch
URL:https://xn--dufhrst-7wa.de/termin/salzufler-str-herford-unterricht-thema-1-3/
LOCATION:Salzufler Str. 147 32052 Herford\, Salzufler Str. 147\, Herford\, 32052
END:VEVENT
BEGIN:VEVENT
DTSTART;TZID=Europe/Berlin:20260613T080000
DTEND;TZID=Europe/Berlin:20260613T160000
DTSTAMP:20260422T124503
CREATED:20260113T111002Z
LAST-MODIFIED:20260113T111002Z
UID:10005303-1781337600-1781366400@xn--dufhrst-7wa.de
SUMMARY:BKF-Weiterbildung: Modul 5-Sicherheit für Ladung & F (Voranmeldung erforderlich)
DESCRIPTION:Sicherheit für Ladung & F
URL:https://xn--dufhrst-7wa.de/termin/bkf-weiterbildung-modul-5-sicherheit-fuer-ladung-f-voranmeldung-erforderlich-4/
LOCATION:Salzufler Str. 2 32108 Bad Salzuflen
END:VEVENT
BEGIN:VEVENT
DTSTART;TZID=Europe/Berlin:20260616T183000
DTEND;TZID=Europe/Berlin:20260616T200000
DTSTAMP:20260422T124503
CREATED:20260319T072530Z
LAST-MODIFIED:20260319T072530Z
UID:10005337-1781634600-1781640000@xn--dufhrst-7wa.de
SUMMARY:Elverdisser Str. Herford Unterricht Thema 4
DESCRIPTION:Straßenverkehrssystem und seine Nutzung
URL:https://xn--dufhrst-7wa.de/termin/elverdisser-str-herford-unterricht-thema-4-4/
LOCATION:Elverdisser Str. 53 – 55 32052 Herford
END:VEVENT
BEGIN:VEVENT
DTSTART;TZID=Europe/Berlin:20260618T170000
DTEND;TZID=Europe/Berlin:20260618T183000
DTSTAMP:20260422T124503
CREATED:20251021T070820Z
LAST-MODIFIED:20251021T070820Z
UID:10005034-1781802000-1781807400@xn--dufhrst-7wa.de
SUMMARY:Elverdisser Str. Unterricht Thema A1
DESCRIPTION:Fahrer/Beifahrer\, Fahrzeug
URL:https://xn--dufhrst-7wa.de/termin/elverdisser-str-unterricht-thema-a1-6/
LOCATION:Elverdisser Str. 53 – 55 32052 Herford
END:VEVENT
BEGIN:VEVENT
DTSTART;TZID=Europe/Berlin:20260618T183000
DTEND;TZID=Europe/Berlin:20260618T200000
DTSTAMP:20260422T124503
CREATED:20260318T150726Z
LAST-MODIFIED:20260318T150726Z
UID:10005326-1781807400-1781812800@xn--dufhrst-7wa.de
SUMMARY:Salzufler Str. Herford Unterricht Thema 6
DESCRIPTION:Verkehrsreglungen/Bahnübergänge
URL:https://xn--dufhrst-7wa.de/termin/salzufler-str-herford-unterricht-thema-6-4/
LOCATION:Salzufler Str. 147 32052 Herford\, Salzufler Str. 147\, Herford\, 32052
END:VEVENT
BEGIN:VEVENT
DTSTART;TZID=Europe/Berlin:20260618T184500
DTEND;TZID=Europe/Berlin:20260618T201500
DTSTAMP:20260422T124503
CREATED:20251021T070909Z
LAST-MODIFIED:20251021T070909Z
UID:10005035-1781808300-1781813700@xn--dufhrst-7wa.de
SUMMARY:Elverdisser Str. Unterricht Thema A2
DESCRIPTION:Fahrtechnik und Fahrphysik
URL:https://xn--dufhrst-7wa.de/termin/elverdisser-str-unterricht-thema-a2-6/
LOCATION:Elverdisser Str. 53 – 55 32052 Herford
END:VEVENT
BEGIN:VEVENT
DTSTART;TZID=Europe/Berlin:20260619T170000
DTEND;TZID=Europe/Berlin:20260619T183000
DTSTAMP:20260422T124503
CREATED:20251021T070939Z
LAST-MODIFIED:20251021T070939Z
UID:10005036-1781888400-1781893800@xn--dufhrst-7wa.de
SUMMARY:Elverdisser Str. Unterricht Thema A3
DESCRIPTION:Besondere Schwierigkeiten und Gefahren
URL:https://xn--dufhrst-7wa.de/termin/elverdisser-str-unterricht-thema-a3-6/
LOCATION:Elverdisser Str. 53 – 55 32052 Herford
END:VEVENT
BEGIN:VEVENT
DTSTART;TZID=Europe/Berlin:20260619T184500
DTEND;TZID=Europe/Berlin:20260619T201500
DTSTAMP:20260422T124503
CREATED:20251021T071012Z
LAST-MODIFIED:20251021T071012Z
UID:10005037-1781894700-1781900100@xn--dufhrst-7wa.de
SUMMARY:Elverdisser Str. Unterricht Thema A4
DESCRIPTION:Besonderes Verhalten beim Motorradfahren
URL:https://xn--dufhrst-7wa.de/termin/elverdisser-str-unterricht-thema-a4-6/
LOCATION:Elverdisser Str. 53 – 55 32052 Herford
END:VEVENT
BEGIN:VEVENT
DTSTART;TZID=Europe/Berlin:20260623T183000
DTEND;TZID=Europe/Berlin:20260623T200000
DTSTAMP:20260422T124503
CREATED:20260319T072729Z
LAST-MODIFIED:20260319T072729Z
UID:10005338-1782239400-1782244800@xn--dufhrst-7wa.de
SUMMARY:Elverdisser Str. Herford Unterricht Thema 9
DESCRIPTION:Verkehrsverhalten bei Fahrmanövern\, Verkehrsbeobachtung
URL:https://xn--dufhrst-7wa.de/termin/elverdisser-str-herford-unterricht-thema-9-4/
LOCATION:Elverdisser Str. 53 – 55 32052 Herford
END:VEVENT
BEGIN:VEVENT
DTSTART;TZID=Europe/Berlin:20260625T183000
DTEND;TZID=Europe/Berlin:20260625T200000
DTSTAMP:20260422T124503
CREATED:20260318T150943Z
LAST-MODIFIED:20260318T150943Z
UID:10005327-1782412200-1782417600@xn--dufhrst-7wa.de
SUMMARY:Salzufler Str. Herford Unterricht Thema 11
DESCRIPTION:Verhalten in besonderen Situationen
URL:https://xn--dufhrst-7wa.de/termin/salzufler-str-herford-unterricht-thema-11-3/
LOCATION:Salzufler Str. 147 32052 Herford\, Salzufler Str. 147\, Herford\, 32052
END:VEVENT
BEGIN:VEVENT
DTSTART;TZID=Europe/Berlin:20260630T183000
DTEND;TZID=Europe/Berlin:20260630T200000
DTSTAMP:20260422T124503
CREATED:20260319T072855Z
LAST-MODIFIED:20260319T072855Z
UID:10005339-1782844200-1782849600@xn--dufhrst-7wa.de
SUMMARY:Elverdisser Str. Herford Unterricht Thema B2
DESCRIPTION:Fahren mit Solokraftfahrzeugen und Zügen\, Personen- und Güterbeförderung
URL:https://xn--dufhrst-7wa.de/termin/elverdisser-str-herford-unterricht-thema-b2-4/
LOCATION:Elverdisser Str. 53 – 55 32052 Herford
END:VEVENT
BEGIN:VEVENT
DTSTART;TZID=Europe/Berlin:20260705T100000
DTEND;TZID=Europe/Berlin:20260705T173000
DTSTAMP:20260422T124503
CREATED:20251021T114908Z
LAST-MODIFIED:20251021T114908Z
UID:10005074-1783245600-1783272600@xn--dufhrst-7wa.de
SUMMARY:Erste Hilfe Kurs (Voranmeldung erforderlich)
DESCRIPTION:
URL:https://xn--dufhrst-7wa.de/termin/erste-hilfe-kurs-voranmeldung-erforderlich-9/
LOCATION:Elverdisser Str. 53 – 55 32052 Herford
END:VEVENT
BEGIN:VEVENT
DTSTART;TZID=Europe/Berlin:20260706T180000
DTEND;TZID=Europe/Berlin:20260706T200000
DTSTAMP:20260422T124503
CREATED:20251021T091716Z
LAST-MODIFIED:20251021T091716Z
UID:10005065-1783360800-1783368000@xn--dufhrst-7wa.de
SUMMARY:Aufbauseminar
DESCRIPTION:
URL:https://xn--dufhrst-7wa.de/termin/aufbauseminar-4/
LOCATION:Elverdisser Str. 53 – 55 32052 Herford
END:VEVENT
BEGIN:VEVENT
DTSTART;TZID=Europe/Berlin:20260716T170000
DTEND;TZID=Europe/Berlin:20260716T183000
DTSTAMP:20260422T124503
CREATED:20251021T071048Z
LAST-MODIFIED:20251021T071048Z
UID:10005038-1784221200-1784226600@xn--dufhrst-7wa.de
SUMMARY:Elverdisser Str. Unterricht Thema A1
DESCRIPTION:Fahrer/Beifahrer\, Fahrzeug
URL:https://xn--dufhrst-7wa.de/termin/elverdisser-str-unterricht-thema-a1-7/
LOCATION:Elverdisser Str. 53 – 55 32052 Herford
END:VEVENT
BEGIN:VEVENT
DTSTART;TZID=Europe/Berlin:20260716T184500
DTEND;TZID=Europe/Berlin:20260716T201500
DTSTAMP:20260422T124503
CREATED:20251021T071127Z
LAST-MODIFIED:20251021T071127Z
UID:10005039-1784227500-1784232900@xn--dufhrst-7wa.de
SUMMARY:Elverdisser Str. Unterricht Thema A2
DESCRIPTION:Fahrtechnik und Fahrphysik
URL:https://xn--dufhrst-7wa.de/termin/elverdisser-str-unterricht-thema-a2-7/
LOCATION:Elverdisser Str. 53 – 55 32052 Herford
END:VEVENT
BEGIN:VEVENT
DTSTART;TZID=Europe/Berlin:20260717T170000
DTEND;TZID=Europe/Berlin:20260717T183000
DTSTAMP:20260422T124503
CREATED:20251021T071215Z
LAST-MODIFIED:20251021T071215Z
UID:10005040-1784307600-1784313000@xn--dufhrst-7wa.de
SUMMARY:Elverdisser Str. Unterricht Thema A3
DESCRIPTION:Besondere Schwierigkeiten und Gefahren
URL:https://xn--dufhrst-7wa.de/termin/elverdisser-str-unterricht-thema-a3-7/
LOCATION:Elverdisser Str. 53 – 55 32052 Herford
END:VEVENT
BEGIN:VEVENT
DTSTART;TZID=Europe/Berlin:20260717T184500
DTEND;TZID=Europe/Berlin:20260717T201500
DTSTAMP:20260422T124503
CREATED:20251021T071247Z
LAST-MODIFIED:20251021T071247Z
UID:10005041-1784313900-1784319300@xn--dufhrst-7wa.de
SUMMARY:Elverdisser Str. Unterricht Thema A4
DESCRIPTION:Besonderes Verhalten beim Motorradfahren
URL:https://xn--dufhrst-7wa.de/termin/elverdisser-str-unterricht-thema-a4-7/
LOCATION:Elverdisser Str. 53 – 55 32052 Herford
END:VEVENT
BEGIN:VEVENT
DTSTART;TZID=Europe/Berlin:20260802T100000
DTEND;TZID=Europe/Berlin:20260802T173000
DTSTAMP:20260422T124503
CREATED:20251021T114935Z
LAST-MODIFIED:20251021T114935Z
UID:10005075-1785664800-1785691800@xn--dufhrst-7wa.de
SUMMARY:Erste Hilfe Kurs (Voranmeldung erforderlich)
DESCRIPTION:
URL:https://xn--dufhrst-7wa.de/termin/erste-hilfe-kurs-voranmeldung-erforderlich-10/
LOCATION:Elverdisser Str. 53 – 55 32052 Herford
END:VEVENT
END:VCALENDAR