BEGIN:VCALENDAR
VERSION:2.0
PRODID:-//DU FÄHRST - ECPv6.15.18//NONSGML v1.0//EN
CALSCALE:GREGORIAN
METHOD:PUBLISH
X-WR-CALNAME:DU FÄHRST
X-ORIGINAL-URL:https://xn--dufhrst-7wa.de
X-WR-CALDESC:Veranstaltungen für DU FÄHRST
REFRESH-INTERVAL;VALUE=DURATION:PT1H
X-Robots-Tag:noindex
X-PUBLISHED-TTL:PT1H
BEGIN:VTIMEZONE
TZID:Europe/Berlin
BEGIN:DAYLIGHT
TZOFFSETFROM:+0100
TZOFFSETTO:+0200
TZNAME:CEST
DTSTART:20250330T010000
END:DAYLIGHT
BEGIN:STANDARD
TZOFFSETFROM:+0200
TZOFFSETTO:+0100
TZNAME:CET
DTSTART:20251026T010000
END:STANDARD
BEGIN:DAYLIGHT
TZOFFSETFROM:+0100
TZOFFSETTO:+0200
TZNAME:CEST
DTSTART:20260329T010000
END:DAYLIGHT
BEGIN:STANDARD
TZOFFSETFROM:+0200
TZOFFSETTO:+0100
TZNAME:CET
DTSTART:20261025T010000
END:STANDARD
BEGIN:DAYLIGHT
TZOFFSETFROM:+0100
TZOFFSETTO:+0200
TZNAME:CEST
DTSTART:20270328T010000
END:DAYLIGHT
BEGIN:STANDARD
TZOFFSETFROM:+0200
TZOFFSETTO:+0100
TZNAME:CET
DTSTART:20271031T010000
END:STANDARD
END:VTIMEZONE
BEGIN:VEVENT
DTSTART;TZID=Europe/Berlin:20260427T104500
DTEND;TZID=Europe/Berlin:20260427T121500
DTSTAMP:20260420T153903
CREATED:20260325T160110Z
LAST-MODIFIED:20260330T083642Z
UID:10005355-1777286700-1777292100@xn--dufhrst-7wa.de
SUMMARY:Intensivkurs Salzufler Str. Bad Salzuflen Unterricht Thema C10 (Voranmeldung Notwendig)
DESCRIPTION:Wirtschaftliches und umweltschonendes Fahren/Streckenplanung/Straßenkarte
URL:https://xn--dufhrst-7wa.de/termin/salzufler-str-bad-salzuflen-unterricht-thema-c10-voranmeldung-notwendig/
LOCATION:Salzufler Str. 2 32108 Bad Salzuflen
END:VEVENT
BEGIN:VEVENT
DTSTART;TZID=Europe/Berlin:20260427T183000
DTEND;TZID=Europe/Berlin:20260427T200000
DTSTAMP:20260420T153903
CREATED:20260326T093655Z
LAST-MODIFIED:20260326T093655Z
UID:10005367-1777314600-1777320000@xn--dufhrst-7wa.de
SUMMARY:Herforder Str. Bad Oeynhausen Unterricht Thema 10
DESCRIPTION:Ruhender Verkehr
URL:https://xn--dufhrst-7wa.de/termin/herforder-str-bad-oeynhausen-unterricht-thema-10/
LOCATION:Herforder Straße 82\, 32545 Bad Oeynhausen
END:VEVENT
BEGIN:VEVENT
DTSTART;TZID=Europe/Berlin:20260427T183000
DTEND;TZID=Europe/Berlin:20260427T200000
DTSTAMP:20260420T153903
CREATED:20260326T095507Z
LAST-MODIFIED:20260401T143159Z
UID:10005375-1777314600-1777320000@xn--dufhrst-7wa.de
SUMMARY:Rennstr. Herford Unterricht Thema 12
DESCRIPTION:Lebenslanges Lernen/Folgen von Verstößen gegen Verkehrsvorschriften
URL:https://xn--dufhrst-7wa.de/termin/rennstr-herford-unterricht-thema-b1/
LOCATION:Rennstr. 11\, 32052 Herford
END:VEVENT
BEGIN:VEVENT
DTSTART;TZID=Europe/Berlin:20260427T183000
DTEND;TZID=Europe/Berlin:20260427T200000
DTSTAMP:20260420T153903
CREATED:20260326T130328Z
LAST-MODIFIED:20260326T130328Z
UID:10005393-1777314600-1777320000@xn--dufhrst-7wa.de
SUMMARY:Osterstr. Bad Salzuflen Unterricht Thema 6
DESCRIPTION:Verkehrsreglungen/Bahnübergänge
URL:https://xn--dufhrst-7wa.de/termin/osterstr-bad-salzuflen-unterricht-thema-6/
LOCATION:Osterstr. 39\, 32105 Bad Salzuflen
END:VEVENT
BEGIN:VEVENT
DTSTART;TZID=Europe/Berlin:20260428T164500
DTEND;TZID=Europe/Berlin:20260428T181500
DTSTAMP:20260420T153903
CREATED:20260325T162814Z
LAST-MODIFIED:20260326T080655Z
UID:10005356-1777394700-1777400100@xn--dufhrst-7wa.de
SUMMARY:Intensivkurs Salzufler Str. Bad Salzuflen Unterricht Thema 8 (Voranmeldung Notwendig)
DESCRIPTION:Andere Teilnehmer im Straßenverkehr: Besonderheiten und Verhalten
URL:https://xn--dufhrst-7wa.de/termin/salzufler-str-bad-salzuflen-unterricht-thema-8-voranmeldung-notwendig/
LOCATION:Salzufler Str. 2 32108 Bad Salzuflen
END:VEVENT
BEGIN:VEVENT
DTSTART;TZID=Europe/Berlin:20260428T183000
DTEND;TZID=Europe/Berlin:20260428T200000
DTSTAMP:20260420T153903
CREATED:20260319T071031Z
LAST-MODIFIED:20260401T143313Z
UID:10005330-1777401000-1777406400@xn--dufhrst-7wa.de
SUMMARY:Elverdisser Str. Herford Unterricht Thema B1
DESCRIPTION:Technische Bedingungen/umweltbewusster Umgang mit Kraftfahrzeugen
URL:https://xn--dufhrst-7wa.de/termin/elverdisser-str-herford-unterricht-thema-b2-2/
LOCATION:Elverdisser Str. 53 – 55 32052 Herford
END:VEVENT
BEGIN:VEVENT
DTSTART;TZID=Europe/Berlin:20260428T183000
DTEND;TZID=Europe/Berlin:20260428T200000
DTSTAMP:20260420T153903
CREATED:20260325T163039Z
LAST-MODIFIED:20260326T080741Z
UID:10005357-1777401000-1777406400@xn--dufhrst-7wa.de
SUMMARY:Intensivkurs Salzufler Str. Bad Salzuflen Unterricht Thema 9 (Voranmeldung Notwendig)
DESCRIPTION:Verkehrsverhalten bei Fahrmanövern\, Verkehrsbeobachtung
URL:https://xn--dufhrst-7wa.de/termin/salzufler-str-bad-salzuflen-unterricht-thema-9-voranmeldung-notwendig/
LOCATION:Salzufler Str. 2 32108 Bad Salzuflen
END:VEVENT
BEGIN:VEVENT
DTSTART;TZID=Europe/Berlin:20260428T183000
DTEND;TZID=Europe/Berlin:20260428T200000
DTSTAMP:20260420T153903
CREATED:20260326T094602Z
LAST-MODIFIED:20260326T094602Z
UID:10005372-1777401000-1777406400@xn--dufhrst-7wa.de
SUMMARY:Herforder Str. Löhne Unterricht Thema 11
DESCRIPTION:Verhalten in besonderen Situationen
URL:https://xn--dufhrst-7wa.de/termin/herforder-str-loehne-unterricht-thema-11/
LOCATION:Herforder Str. 12 32584 Löhne
END:VEVENT
BEGIN:VEVENT
DTSTART;TZID=Europe/Berlin:20260428T183000
DTEND;TZID=Europe/Berlin:20260428T200000
DTSTAMP:20260420T153903
CREATED:20260326T113215Z
LAST-MODIFIED:20260326T113215Z
UID:10005386-1777401000-1777406400@xn--dufhrst-7wa.de
SUMMARY:Oldentruper Str. (Marktkauf) Bielefeld Unterricht Thema 4
DESCRIPTION:Straßenverkehrssystem und seine Nutzung
URL:https://xn--dufhrst-7wa.de/termin/oldentruper-str-marktkauf-bielefeld-unterricht-thema-4-2/
LOCATION:Oldentruper Str. 236\, 33719 Bielefeld
END:VEVENT
BEGIN:VEVENT
DTSTART;TZID=Europe/Berlin:20260428T183000
DTEND;TZID=Europe/Berlin:20260428T200000
DTSTAMP:20260420T153903
CREATED:20260326T133935Z
LAST-MODIFIED:20260326T133935Z
UID:10005398-1777401000-1777406400@xn--dufhrst-7wa.de
SUMMARY:Salzufler Str. Bad Salzuflen Unterricht Thema 7
DESCRIPTION:Geschwindigkeiten\, Abstand und umweltschonende Fahrweise
URL:https://xn--dufhrst-7wa.de/termin/salzufler-str-bad-salzuflen-unterricht-thema-7/
LOCATION:Salzufler Str. 2 32108 Bad Salzuflen
END:VEVENT
BEGIN:VEVENT
DTSTART;TZID=Europe/Berlin:20260429T080000
DTEND;TZID=Europe/Berlin:20260429T093000
DTSTAMP:20260420T153903
CREATED:20260326T081017Z
LAST-MODIFIED:20260330T085833Z
UID:10005358-1777449600-1777455000@xn--dufhrst-7wa.de
SUMMARY:Intensivkurs Salzufler Str. Bad Salzuflen Thema CE1 (Voranmeldung Notwendig)
DESCRIPTION:Anhängerbetrieb
URL:https://xn--dufhrst-7wa.de/termin/intensivkurs-salzufler-str-bad-salzuflen-thema-ce1-voranmeldung-notwendig/
LOCATION:Salzufler Str. 2 32108 Bad Salzuflen
END:VEVENT
BEGIN:VEVENT
DTSTART;TZID=Europe/Berlin:20260429T094500
DTEND;TZID=Europe/Berlin:20260429T111500
DTSTAMP:20260420T153903
CREATED:20260326T081136Z
LAST-MODIFIED:20260330T085938Z
UID:10005359-1777455900-1777461300@xn--dufhrst-7wa.de
SUMMARY:Intensivkurs Salzufler Str. Bad Salzuflen Thema CE2 (Voranmeldung Notwendig)
DESCRIPTION:Lastzugbremse 1
URL:https://xn--dufhrst-7wa.de/termin/intensivkurs-salzufler-str-bad-salzuflen-thema-ce2-voranmeldung-notwendig/
LOCATION:Salzufler Str. 2 32108 Bad Salzuflen
END:VEVENT
BEGIN:VEVENT
DTSTART;TZID=Europe/Berlin:20260429T183000
DTEND;TZID=Europe/Berlin:20260429T200000
DTSTAMP:20260420T153903
CREATED:20260326T093755Z
LAST-MODIFIED:20260326T093755Z
UID:10005368-1777487400-1777492800@xn--dufhrst-7wa.de
SUMMARY:Herforder Str. Bad Oeynhausen Unterricht Thema 12
DESCRIPTION:Lebenslanges Lernen/Folgen von Verstößen gegen Verkehrsvorschriften
URL:https://xn--dufhrst-7wa.de/termin/herforder-str-bad-oeynhausen-unterricht-thema-12/
LOCATION:Herforder Straße 82\, 32545 Bad Oeynhausen
END:VEVENT
BEGIN:VEVENT
DTSTART;TZID=Europe/Berlin:20260429T183000
DTEND;TZID=Europe/Berlin:20260429T200000
DTSTAMP:20260420T153903
CREATED:20260326T095826Z
LAST-MODIFIED:20260401T143538Z
UID:10005376-1777487400-1777492800@xn--dufhrst-7wa.de
SUMMARY:Rennstr. Herford Unterricht Thema B2
DESCRIPTION:Fahren mit Solokraftfahrzeugen und Zügen\, Personen- und Güterbeförderung
URL:https://xn--dufhrst-7wa.de/termin/rennstr-herford-unterricht-thema-1/
LOCATION:Rennstr. 11\, 32052 Herford
END:VEVENT
BEGIN:VEVENT
DTSTART;TZID=Europe/Berlin:20260429T183000
DTEND;TZID=Europe/Berlin:20260429T200000
DTSTAMP:20260420T153903
CREATED:20260326T130505Z
LAST-MODIFIED:20260326T130505Z
UID:10005394-1777487400-1777492800@xn--dufhrst-7wa.de
SUMMARY:Osterstr. Bad Salzuflen Unterricht Thema 8
DESCRIPTION:Andere Teilnehmer im Straßenverkehr: Besonderheiten und Verhalten
URL:https://xn--dufhrst-7wa.de/termin/osterstr-bad-salzuflen-unterricht-thema-8/
LOCATION:Osterstr. 39\, 32105 Bad Salzuflen
END:VEVENT
BEGIN:VEVENT
DTSTART;TZID=Europe/Berlin:20260429T183000
DTEND;TZID=Europe/Berlin:20260429T200000
DTSTAMP:20260420T153903
CREATED:20260326T151459Z
LAST-MODIFIED:20260326T151459Z
UID:10005408-1777487400-1777492800@xn--dufhrst-7wa.de
SUMMARY:Brunnenallee Bünde Unterricht Thema B2 (Voranmeldung bis 27.04 18:00 Uhr bei 015780530059)
DESCRIPTION:Fahren mit Solokraftfahrzeugen und Zügen\, Personen- und Güterbeförderung
URL:https://xn--dufhrst-7wa.de/termin/brunnenallee-buende-unterricht-thema-b2-voranmeldung-bis-27-04-1800-uhr-bei-015780530059/
LOCATION:Brunnenallee 131\, 32257 Bünde
END:VEVENT
BEGIN:VEVENT
DTSTART;TZID=Europe/Berlin:20260430T080000
DTEND;TZID=Europe/Berlin:20260430T093000
DTSTAMP:20260420T153903
CREATED:20260326T081240Z
LAST-MODIFIED:20260330T090113Z
UID:10005360-1777536000-1777541400@xn--dufhrst-7wa.de
SUMMARY:Intensivkurs Salzufler Str. Bad Salzuflen Thema CE3 (Voranmeldung Notwendig)
DESCRIPTION:Lastzugbremse 2
URL:https://xn--dufhrst-7wa.de/termin/intensivkurs-salzufler-str-bad-salzuflen-thema-ce3-voranmeldung-notwendig/
LOCATION:Salzufler Str. 2 32108 Bad Salzuflen
END:VEVENT
BEGIN:VEVENT
DTSTART;TZID=Europe/Berlin:20260430T094500
DTEND;TZID=Europe/Berlin:20260430T111500
DTSTAMP:20260420T153903
CREATED:20260326T081330Z
LAST-MODIFIED:20260330T090327Z
UID:10005361-1777542300-1777547700@xn--dufhrst-7wa.de
SUMMARY:Intensivkurs Salzufler Str. Bad Salzuflen Thema CE4 (Voranmeldung Notwendig)
DESCRIPTION:Fahren mit Zügen
URL:https://xn--dufhrst-7wa.de/termin/intensivkurs-salzufler-str-bad-salzuflen-thema-ce4-voranmeldung-notwendig/
LOCATION:Salzufler Str. 2 32108 Bad Salzuflen
END:VEVENT
BEGIN:VEVENT
DTSTART;TZID=Europe/Berlin:20260430T183000
DTEND;TZID=Europe/Berlin:20260430T200000
DTSTAMP:20260420T153903
CREATED:20260318T143244Z
LAST-MODIFIED:20260401T143745Z
UID:10005321-1777573800-1777579200@xn--dufhrst-7wa.de
SUMMARY:Salzufler Str. Herford Unterricht Thema 1
DESCRIPTION:Persönliche Voraussetzungen/Risikofaktor Mensch
URL:https://xn--dufhrst-7wa.de/termin/salzufler-str-herford-unterricht-thema-2-2/
LOCATION:Salzufler Str. 147 32052 Herford\, Salzufler Str. 147\, Herford\, 32052
END:VEVENT
BEGIN:VEVENT
DTSTART;TZID=Europe/Berlin:20260430T183000
DTEND;TZID=Europe/Berlin:20260430T200000
DTSTAMP:20260420T153903
CREATED:20260326T114143Z
LAST-MODIFIED:20260326T114143Z
UID:10005387-1777573800-1777579200@xn--dufhrst-7wa.de
SUMMARY:Oldentruper Str. (Marktkauf) Bielefeld Unterricht Thema 5
DESCRIPTION:Vorfahrt
URL:https://xn--dufhrst-7wa.de/termin/oldentruper-str-marktkauf-bielefeld-unterricht-thema-5/
LOCATION:Oldentruper Str. 236\, 33719 Bielefeld
END:VEVENT
BEGIN:VEVENT
DTSTART;TZID=Europe/Berlin:20260430T183000
DTEND;TZID=Europe/Berlin:20260430T200000
DTSTAMP:20260420T153903
CREATED:20260326T150318Z
LAST-MODIFIED:20260326T150318Z
UID:10005403-1777573800-1777579200@xn--dufhrst-7wa.de
SUMMARY:Bünder Str. Sundern Unterricht Thema B2
DESCRIPTION:Fahren mit Solokraftfahrzeugen und Zügen\, Personen- und Güterbeförderung
URL:https://xn--dufhrst-7wa.de/termin/buender-str-sundern-unterricht-thema-b2/
LOCATION:Bünder Str. 57 32120 Hiddenhausen
END:VEVENT
BEGIN:VEVENT
DTSTART;TZID=Europe/Berlin:20260503T100000
DTEND;TZID=Europe/Berlin:20260503T173000
DTSTAMP:20260420T153903
CREATED:20251021T114754Z
LAST-MODIFIED:20251021T114754Z
UID:10005072-1777802400-1777829400@xn--dufhrst-7wa.de
SUMMARY:Erste Hilfe Kurs (Voranmeldung erforderlich)
DESCRIPTION:
URL:https://xn--dufhrst-7wa.de/termin/erste-hilfe-kurs-voranmeldung-erforderlich-7/
LOCATION:Elverdisser Str. 53 – 55 32052 Herford
END:VEVENT
BEGIN:VEVENT
DTSTART;TZID=Europe/Berlin:20260504T180000
DTEND;TZID=Europe/Berlin:20260504T200000
DTSTAMP:20260420T153903
CREATED:20251021T091648Z
LAST-MODIFIED:20251021T091648Z
UID:10005064-1777917600-1777924800@xn--dufhrst-7wa.de
SUMMARY:Aufbauseminar
DESCRIPTION:
URL:https://xn--dufhrst-7wa.de/termin/aufbauseminar-3/
LOCATION:Elverdisser Str. 53 – 55 32052 Herford
END:VEVENT
BEGIN:VEVENT
DTSTART;TZID=Europe/Berlin:20260505T183000
DTEND;TZID=Europe/Berlin:20260505T200000
DTSTAMP:20260420T153903
CREATED:20260319T071218Z
LAST-MODIFIED:20260319T071218Z
UID:10005331-1778005800-1778011200@xn--dufhrst-7wa.de
SUMMARY:Elverdisser Str. Herford Unterricht Thema 5
DESCRIPTION:Vorfahrt
URL:https://xn--dufhrst-7wa.de/termin/elverdisser-str-herford-unterricht-thema-5-2/
LOCATION:Elverdisser Str. 53 – 55 32052 Herford
END:VEVENT
BEGIN:VEVENT
DTSTART;TZID=Europe/Berlin:20260507T183000
DTEND;TZID=Europe/Berlin:20260507T200000
DTSTAMP:20260420T153903
CREATED:20260318T143611Z
LAST-MODIFIED:20260318T143611Z
UID:10005322-1778178600-1778184000@xn--dufhrst-7wa.de
SUMMARY:Salzufler Str. Herford Unterricht Thema 7
DESCRIPTION:Geschwindigkeiten\, Abstand und umweltschonende Fahrweise
URL:https://xn--dufhrst-7wa.de/termin/salzufler-str-herford-unterricht-thema-7-2/
LOCATION:Salzufler Str. 147 32052 Herford\, Salzufler Str. 147\, Herford\, 32052
END:VEVENT
BEGIN:VEVENT
DTSTART;TZID=Europe/Berlin:20260509T080000
DTEND;TZID=Europe/Berlin:20260509T160000
DTSTAMP:20260420T153903
CREATED:20260113T110359Z
LAST-MODIFIED:20260113T110359Z
UID:10005300-1778313600-1778342400@xn--dufhrst-7wa.de
SUMMARY:BKF-Weiterbildung: Modul 2-Sozialvorschriften & Fahr (Voranmeldung erforderlich)
DESCRIPTION:Sozialvorschriften & Fahr
URL:https://xn--dufhrst-7wa.de/termin/bkf-weiterbildung-modul-2-sozialvorschriften-fahr-voranmeldung-erforderlich-4/
LOCATION:Salzufler Str. 2 32108 Bad Salzuflen
END:VEVENT
BEGIN:VEVENT
DTSTART;TZID=Europe/Berlin:20260512T183000
DTEND;TZID=Europe/Berlin:20260512T200000
DTSTAMP:20260420T153903
CREATED:20260319T071425Z
LAST-MODIFIED:20260319T071425Z
UID:10005332-1778610600-1778616000@xn--dufhrst-7wa.de
SUMMARY:Elverdisser Str. Herford Unterricht Thema 10
DESCRIPTION:Ruhender Verkehr
URL:https://xn--dufhrst-7wa.de/termin/elverdisser-str-herford-unterricht-thema-10-2/
LOCATION:Elverdisser Str. 53 – 55 32052 Herford
END:VEVENT
BEGIN:VEVENT
DTSTART;TZID=Europe/Berlin:20260519T183000
DTEND;TZID=Europe/Berlin:20260519T200000
DTSTAMP:20260420T153903
CREATED:20260319T071601Z
LAST-MODIFIED:20260319T071601Z
UID:10005333-1779215400-1779220800@xn--dufhrst-7wa.de
SUMMARY:Elverdisser Str. Herford Unterricht Thema B2
DESCRIPTION:Fahren mit Solokraftfahrzeugen und Zügen\, Personen- und Güterbeförderung
URL:https://xn--dufhrst-7wa.de/termin/elverdisser-str-herford-unterricht-thema-b2-3/
LOCATION:Elverdisser Str. 53 – 55 32052 Herford
END:VEVENT
BEGIN:VEVENT
DTSTART;TZID=Europe/Berlin:20260521T170000
DTEND;TZID=Europe/Berlin:20260521T183000
DTSTAMP:20260420T153903
CREATED:20251021T070521Z
LAST-MODIFIED:20251021T070521Z
UID:10005030-1779382800-1779388200@xn--dufhrst-7wa.de
SUMMARY:Elverdisser Str. Unterricht Thema A1
DESCRIPTION:Fahrer/Beifahrer\, Fahrzeug
URL:https://xn--dufhrst-7wa.de/termin/elverdisser-str-unterricht-thema-a1-5/
LOCATION:Elverdisser Str. 53 – 55 32052 Herford
END:VEVENT
BEGIN:VEVENT
DTSTART;TZID=Europe/Berlin:20260521T183000
DTEND;TZID=Europe/Berlin:20260521T200000
DTSTAMP:20260420T153903
CREATED:20260318T143845Z
LAST-MODIFIED:20260318T143845Z
UID:10005323-1779388200-1779393600@xn--dufhrst-7wa.de
SUMMARY:Salzufler Str. Herford Unterricht Thema 2
DESCRIPTION:Rechtliche Rahmenbedingungen
URL:https://xn--dufhrst-7wa.de/termin/salzufler-str-herford-unterricht-thema-2-3/
LOCATION:Salzufler Str. 147 32052 Herford\, Salzufler Str. 147\, Herford\, 32052
END:VEVENT
END:VCALENDAR