BEGIN:VCALENDAR
VERSION:2.0
PRODID:-//DU FÄHRST - ECPv6.15.18//NONSGML v1.0//EN
CALSCALE:GREGORIAN
METHOD:PUBLISH
X-ORIGINAL-URL:https://xn--dufhrst-7wa.de
X-WR-CALDESC:Veranstaltungen für DU FÄHRST
REFRESH-INTERVAL;VALUE=DURATION:PT1H
X-Robots-Tag:noindex
X-PUBLISHED-TTL:PT1H
BEGIN:VTIMEZONE
TZID:Europe/Berlin
BEGIN:DAYLIGHT
TZOFFSETFROM:+0100
TZOFFSETTO:+0200
TZNAME:CEST
DTSTART:20250330T010000
END:DAYLIGHT
BEGIN:STANDARD
TZOFFSETFROM:+0200
TZOFFSETTO:+0100
TZNAME:CET
DTSTART:20251026T010000
END:STANDARD
BEGIN:DAYLIGHT
TZOFFSETFROM:+0100
TZOFFSETTO:+0200
TZNAME:CEST
DTSTART:20260329T010000
END:DAYLIGHT
BEGIN:STANDARD
TZOFFSETFROM:+0200
TZOFFSETTO:+0100
TZNAME:CET
DTSTART:20261025T010000
END:STANDARD
BEGIN:DAYLIGHT
TZOFFSETFROM:+0100
TZOFFSETTO:+0200
TZNAME:CEST
DTSTART:20270328T010000
END:DAYLIGHT
BEGIN:STANDARD
TZOFFSETFROM:+0200
TZOFFSETTO:+0100
TZNAME:CET
DTSTART:20271031T010000
END:STANDARD
END:VTIMEZONE
BEGIN:VEVENT
DTSTART;TZID=Europe/Berlin:20260411T080000
DTEND;TZID=Europe/Berlin:20260411T160000
DTSTAMP:20260420T174054
CREATED:20260113T104945Z
LAST-MODIFIED:20260113T104945Z
UID:10005297-1775894400-1775923200@xn--dufhrst-7wa.de
SUMMARY:BKF-Weiterbildung: Modul 4-Schadensprävention (Voranmeldung erforderlich)
DESCRIPTION:Schadensprävention
URL:https://xn--dufhrst-7wa.de/termin/bkf-weiterbildung-modul-4-schadenspraevention-voranmeldung-erforderlich-2/
LOCATION:Salzufler Str. 2 32108 Bad Salzuflen
END:VEVENT
BEGIN:VEVENT
DTSTART;TZID=Europe/Berlin:20260409T183000
DTEND;TZID=Europe/Berlin:20260409T200000
DTSTAMP:20260420T174054
CREATED:20260328T165606Z
LAST-MODIFIED:20260328T165606Z
UID:10005410-1775759400-1775764800@xn--dufhrst-7wa.de
SUMMARY:Salzufler Str. Bad Salzuflen Unterricht Thema C2
DESCRIPTION:Wirkung von Kräften durch physikalische Gesetzmäßigkeiten
URL:https://xn--dufhrst-7wa.de/termin/salzufler-str-bad-salzuflen-unterricht-thema-c2/
LOCATION:Salzufler Str. 2 32108 Bad Salzuflen
END:VEVENT
BEGIN:VEVENT
DTSTART;TZID=Europe/Berlin:20260409T183000
DTEND;TZID=Europe/Berlin:20260409T200000
DTSTAMP:20260420T174054
CREATED:20260326T135348Z
LAST-MODIFIED:20260326T135348Z
UID:10005400-1775759400-1775764800@xn--dufhrst-7wa.de
SUMMARY:Bünder Str. Sundern Unterricht Thema 9
DESCRIPTION:Verkehrsverhalten bei Fahrmanövern\, Verkehrsbeobachtung
URL:https://xn--dufhrst-7wa.de/termin/buender-str-sundern-unterricht-thema-9/
LOCATION:Bünder Str. 57 32120 Hiddenhausen
END:VEVENT
BEGIN:VEVENT
DTSTART;TZID=Europe/Berlin:20260409T183000
DTEND;TZID=Europe/Berlin:20260409T200000
DTSTAMP:20260420T174054
CREATED:20260326T111948Z
LAST-MODIFIED:20260326T111948Z
UID:10005381-1775759400-1775764800@xn--dufhrst-7wa.de
SUMMARY:Oldentruper Str. (Marktkauf) Bielefeld Unterricht Thema B1
DESCRIPTION:Technische Bedingungen/umweltbewusster Umgang mit Kraftfahrzeugen
URL:https://xn--dufhrst-7wa.de/termin/oldentruper-str-marktkauf-bielefeld-unterricht-thema-b1/
LOCATION:Oldentruper Str. 236\, 33719 Bielefeld
END:VEVENT
BEGIN:VEVENT
DTSTART;TZID=Europe/Berlin:20260409T183000
DTEND;TZID=Europe/Berlin:20260409T200000
DTSTAMP:20260420T174054
CREATED:20260311T105028Z
LAST-MODIFIED:20260327T195439Z
UID:10005315-1775759400-1775764800@xn--dufhrst-7wa.de
SUMMARY:Salzufler Str. Herford Theorie Intensivkurs Thema B2
DESCRIPTION:Fahren mit Solokraftfahrzeugen und Zügen\, Personen- und Güterbeförderung
URL:https://xn--dufhrst-7wa.de/termin/rennstr-herford-theorie-intensivkurs-thema-b2/
LOCATION:Salzufler Str. 147 32052 Herford\, Salzufler Str. 147\, Herford\, 32052
END:VEVENT
BEGIN:VEVENT
DTSTART;TZID=Europe/Berlin:20260409T164500
DTEND;TZID=Europe/Berlin:20260409T181500
DTSTAMP:20260420T174054
CREATED:20260311T104024Z
LAST-MODIFIED:20260327T195213Z
UID:10005314-1775753100-1775758500@xn--dufhrst-7wa.de
SUMMARY:Salzufler Str. Herford Theorie Intensivkurs Thema B1
DESCRIPTION:Technische Bedingungen/umweltbewusster Umgang mit Kraftfahrzeugen
URL:https://xn--dufhrst-7wa.de/termin/rennstr-herford-theorie-intensivkurs-thema-b1/
LOCATION:Salzufler Str. 147 32052 Herford\, Salzufler Str. 147\, Herford\, 32052
END:VEVENT
BEGIN:VEVENT
DTSTART;TZID=Europe/Berlin:20260408T183000
DTEND;TZID=Europe/Berlin:20260408T200000
DTSTAMP:20260420T174054
CREATED:20260326T150938Z
LAST-MODIFIED:20260326T150938Z
UID:10005405-1775673000-1775678400@xn--dufhrst-7wa.de
SUMMARY:Brunnenallee Bünde Unterricht Thema 8 (Voranmeldung bis 06.04 18:00 Uhr bei 015780530059)
DESCRIPTION:Andere Teilnehmer im Straßenverkehr: Besonderheiten und Verhalten
URL:https://xn--dufhrst-7wa.de/termin/brunnenallee-buende-unterricht-thema-8-voranmeldung-bis-06-04-1800-uhr-bei-015780530059/
LOCATION:Brunnenallee 131\, 32257 Bünde
END:VEVENT
BEGIN:VEVENT
DTSTART;TZID=Europe/Berlin:20260408T183000
DTEND;TZID=Europe/Berlin:20260408T200000
DTSTAMP:20260420T174054
CREATED:20260326T125508Z
LAST-MODIFIED:20260326T125508Z
UID:10005388-1775673000-1775678400@xn--dufhrst-7wa.de
SUMMARY:Osterstr. Bad Salzuflen Unterricht Thema B1
DESCRIPTION:Technische Bedingungen/umweltbewusster Umgang mit Kraftfahrzeugen
URL:https://xn--dufhrst-7wa.de/termin/osterstr-bad-salzuflen-unterricht-thema-b1/
LOCATION:Osterstr. 39\, 32105 Bad Salzuflen
END:VEVENT
BEGIN:VEVENT
DTSTART;TZID=Europe/Berlin:20260408T183000
DTEND;TZID=Europe/Berlin:20260408T200000
DTSTAMP:20260420T174054
CREATED:20260326T092850Z
LAST-MODIFIED:20260326T092850Z
UID:10005362-1775673000-1775678400@xn--dufhrst-7wa.de
SUMMARY:Herforder Str. Bad Oeynhausen Unterricht Thema 3
DESCRIPTION:Verkehrszeichen und Verkehrseinrichtungen
URL:https://xn--dufhrst-7wa.de/termin/herforder-str-bad-oeynhausen-unterricht-thema-3/
LOCATION:Herforder Straße 82\, 32545 Bad Oeynhausen
END:VEVENT
BEGIN:VEVENT
DTSTART;TZID=Europe/Berlin:20260408T183000
DTEND;TZID=Europe/Berlin:20260408T200000
DTSTAMP:20260420T174054
CREATED:20260311T101556Z
LAST-MODIFIED:20260327T195013Z
UID:10005309-1775673000-1775678400@xn--dufhrst-7wa.de
SUMMARY:Rennstr. Herford Theorie Intensivkurs Thema 12
DESCRIPTION:Lebenslanges Lernen/Folgen von Verstößen gegen Verkehrsvorschriften
URL:https://xn--dufhrst-7wa.de/termin/elverdisser-str-theorie-intensivkurs-thema-12/
LOCATION:Rennstr. 11\, 32052 Herford
END:VEVENT
BEGIN:VEVENT
DTSTART;TZID=Europe/Berlin:20260408T164500
DTEND;TZID=Europe/Berlin:20260408T181500
DTSTAMP:20260420T174054
CREATED:20260311T100953Z
LAST-MODIFIED:20260327T194859Z
UID:10005308-1775666700-1775672100@xn--dufhrst-7wa.de
SUMMARY:Rennstr. Herford Theorie Intensivkurs Thema 11
DESCRIPTION:Verhalten in besonderen Situationen
URL:https://xn--dufhrst-7wa.de/termin/elverdisser-str-theorie-intensivkurs-thema-11/
LOCATION:Rennstr. 11\, 32052 Herford
END:VEVENT
BEGIN:VEVENT
DTSTART;TZID=Europe/Berlin:20260407T183000
DTEND;TZID=Europe/Berlin:20260407T200000
DTSTAMP:20260420T174054
CREATED:20260326T110033Z
LAST-MODIFIED:20260326T110033Z
UID:10005380-1775586600-1775592000@xn--dufhrst-7wa.de
SUMMARY:Oldentruper Str. (Marktkauf) Bielefeld Unterricht Thema 12
DESCRIPTION:Lebenslanges Lernen/Folgen von Verstößen gegen Verkehrsvorschriften
URL:https://xn--dufhrst-7wa.de/termin/oldentruper-str-marktkauf-bielefeld-unterricht-thema-12/
LOCATION:Oldentruper Str. 236\, 33719 Bielefeld
END:VEVENT
BEGIN:VEVENT
DTSTART;TZID=Europe/Berlin:20260407T183000
DTEND;TZID=Europe/Berlin:20260407T200000
DTSTAMP:20260420T174054
CREATED:20260326T093947Z
LAST-MODIFIED:20260326T093947Z
UID:10005369-1775586600-1775592000@xn--dufhrst-7wa.de
SUMMARY:Herforder Str. Löhne Unterricht Thema 2
DESCRIPTION:Rechtliche Rahmenbedingungen
URL:https://xn--dufhrst-7wa.de/termin/herforder-str-loehne-unterricht-thema-2/
LOCATION:Herforder Str. 12 32584 Löhne
END:VEVENT
BEGIN:VEVENT
DTSTART;TZID=Europe/Berlin:20260407T183000
DTEND;TZID=Europe/Berlin:20260407T200000
DTSTAMP:20260420T174054
CREATED:20260311T103522Z
LAST-MODIFIED:20260327T194446Z
UID:10005313-1775586600-1775592000@xn--dufhrst-7wa.de
SUMMARY:Elverdisser Str. Herford Theorie Intensivkurs Thema 10
DESCRIPTION:Ruhender Verkehr
URL:https://xn--dufhrst-7wa.de/termin/rennstr-herford-theorie-intensivkurs-thema-10/
LOCATION:Elverdisser Str. 53 – 55 32052 Herford
END:VEVENT
BEGIN:VEVENT
DTSTART;TZID=Europe/Berlin:20260407T164500
DTEND;TZID=Europe/Berlin:20260407T181500
DTSTAMP:20260420T174054
CREATED:20260311T103344Z
LAST-MODIFIED:20260327T194221Z
UID:10005312-1775580300-1775585700@xn--dufhrst-7wa.de
SUMMARY:Elverdisser Str. Herford Theorie Intensivkurs Thema 9
DESCRIPTION:Verkehrsverhalten bei Fahrmanövern\, Verkehrsbeobachtung
URL:https://xn--dufhrst-7wa.de/termin/rennstr-herford-theorie-intensivkurs-thema-9/
LOCATION:Elverdisser Str. 53 – 55 32052 Herford
END:VEVENT
BEGIN:VEVENT
DTSTART;TZID=Europe/Berlin:20260404T080000
DTEND;TZID=Europe/Berlin:20260404T160000
DTSTAMP:20260420T174054
CREATED:20260113T104546Z
LAST-MODIFIED:20260113T104546Z
UID:10005296-1775289600-1775318400@xn--dufhrst-7wa.de
SUMMARY:BKF-Weiterbildung: Modul 3-Gefahrenwahrnehmung (Voranmeldung erforderlich)
DESCRIPTION:Gefahrenwahrnehmung
URL:https://xn--dufhrst-7wa.de/termin/bkf-weiterbildung-modul-3-gefahrenwahrnehmung-voranmeldung-erforderlich-3/
LOCATION:Salzufler Str. 2 32108 Bad Salzuflen
END:VEVENT
BEGIN:VEVENT
DTSTART;TZID=Europe/Berlin:20260402T183000
DTEND;TZID=Europe/Berlin:20260402T200000
DTSTAMP:20260420T174054
CREATED:20260328T165433Z
LAST-MODIFIED:20260328T165433Z
UID:10005409-1775154600-1775160000@xn--dufhrst-7wa.de
SUMMARY:Salzufler Str. Bad Salzuflen Unterricht Thema C1
DESCRIPTION:Persönliche Voraussetzungen und Arbeitsplatz
URL:https://xn--dufhrst-7wa.de/termin/salzufler-str-bad-salzuflen-unterricht-thema-c1/
LOCATION:Salzufler Str. 2 32108 Bad Salzuflen
END:VEVENT
BEGIN:VEVENT
DTSTART;TZID=Europe/Berlin:20260402T183000
DTEND;TZID=Europe/Berlin:20260402T200000
DTSTAMP:20260420T174054
CREATED:20260326T135150Z
LAST-MODIFIED:20260326T135150Z
UID:10005399-1775154600-1775160000@xn--dufhrst-7wa.de
SUMMARY:Bünder Str. Sundern Unterricht Thema 7
DESCRIPTION:Geschwindigkeiten\, Abstand und umweltschonende Fahrweise
URL:https://xn--dufhrst-7wa.de/termin/buender-str-sundern-unterricht-thema-7/
LOCATION:Bünder Str. 57 32120 Hiddenhausen
END:VEVENT
BEGIN:VEVENT
DTSTART;TZID=Europe/Berlin:20260402T183000
DTEND;TZID=Europe/Berlin:20260402T200000
DTSTAMP:20260420T174054
CREATED:20260311T110450Z
LAST-MODIFIED:20260311T110450Z
UID:10005317-1775154600-1775160000@xn--dufhrst-7wa.de
SUMMARY:Salzufler Str. Herford Theorie Intensivkurs Thema 8
DESCRIPTION:Andere Teilnehmer im Straßenverkehr: Besonderheiten und Verhalten
URL:https://xn--dufhrst-7wa.de/termin/salzufler-str-herford-theorie-intensivkurs-thema-8/
LOCATION:Salzufler Str. 147 32052 Herford\, Salzufler Str. 147\, Herford\, 32052
END:VEVENT
BEGIN:VEVENT
DTSTART;TZID=Europe/Berlin:20260402T183000
DTEND;TZID=Europe/Berlin:20260402T200000
DTSTAMP:20260420T174054
CREATED:20251218T104303Z
LAST-MODIFIED:20251218T104303Z
UID:10005105-1775154600-1775160000@xn--dufhrst-7wa.de
SUMMARY:Oldentruper Str. (Marktkauf) Bielefeld Unterricht Thema 11
DESCRIPTION:Verhalten in besonderen Situationen
URL:https://xn--dufhrst-7wa.de/termin/oldentruper-str-marktkauf-bielefeld-unterricht-thema-11-2/
LOCATION:Oldentruper Str. 236\, 33719 Bielefeld
END:VEVENT
BEGIN:VEVENT
DTSTART;TZID=Europe/Berlin:20260402T164500
DTEND;TZID=Europe/Berlin:20260402T181500
DTSTAMP:20260420T174054
CREATED:20260311T105632Z
LAST-MODIFIED:20260311T105632Z
UID:10005316-1775148300-1775153700@xn--dufhrst-7wa.de
SUMMARY:Salzufler Str. Herford Theorie Intensivkurs Thema 7
DESCRIPTION:Geschwindigkeiten\, Abstand und umweltschonende Fahrweise
URL:https://xn--dufhrst-7wa.de/termin/salzufler-str-herford-theorie-intensivkurs-thema-7/
LOCATION:Salzufler Str. 147 32052 Herford\, Salzufler Str. 147\, Herford\, 32052
END:VEVENT
BEGIN:VEVENT
DTSTART;TZID=Europe/Berlin:20260401T183000
DTEND;TZID=Europe/Berlin:20260401T200000
DTSTAMP:20260420T174054
CREATED:20260326T150707Z
LAST-MODIFIED:20260326T150707Z
UID:10005404-1775068200-1775073600@xn--dufhrst-7wa.de
SUMMARY:Brunnenallee Bünde Unterricht Thema 6 (Voranmeldung bis 30.03 18:00 Uhr bei 015780530059)
DESCRIPTION:Verkehrsreglungen/Bahnübergänge
URL:https://xn--dufhrst-7wa.de/termin/brunnenallee-buende-unterricht-thema-6-voranmeldung-bis-30-03-1800-uhr-bei-015780530059/
LOCATION:Brunnenallee 131\, 32257 Bünde
END:VEVENT
BEGIN:VEVENT
DTSTART;TZID=Europe/Berlin:20260401T183000
DTEND;TZID=Europe/Berlin:20260401T200000
DTSTAMP:20260420T174054
CREATED:20260311T102457Z
LAST-MODIFIED:20260311T102457Z
UID:10005311-1775068200-1775073600@xn--dufhrst-7wa.de
SUMMARY:Rennstr. Herford Theorie Intensivkurs Thema 6
DESCRIPTION:Verkehrsreglungen/Bahnübergänge
URL:https://xn--dufhrst-7wa.de/termin/rennstr-herford-theorie-intensivkurs-thema-6/
LOCATION:Rennstr. 11\, 32052 Herford
END:VEVENT
BEGIN:VEVENT
DTSTART;TZID=Europe/Berlin:20260401T183000
DTEND;TZID=Europe/Berlin:20260401T200000
DTSTAMP:20260420T174054
CREATED:20251222T154447Z
LAST-MODIFIED:20260122T081332Z
UID:10005269-1775068200-1775073600@xn--dufhrst-7wa.de
SUMMARY:Herforder Str. Bad Oeynhausen Unterricht Thema 1
DESCRIPTION:Persönliche Voraussetzungen/Risikofaktor Mensch
URL:https://xn--dufhrst-7wa.de/termin/herforder-str-bad-oeynhausen-unterricht-thema-b1-3/
LOCATION:Herforder Straße 82\, 32545 Bad Oeynhausen
END:VEVENT
BEGIN:VEVENT
DTSTART;TZID=Europe/Berlin:20260401T183000
DTEND;TZID=Europe/Berlin:20260401T200000
DTSTAMP:20260420T174054
CREATED:20251222T100634Z
LAST-MODIFIED:20251222T100634Z
UID:10005194-1775068200-1775073600@xn--dufhrst-7wa.de
SUMMARY:Osterstr. Bad Salzuflen Unterricht Thema 11
DESCRIPTION:Verhalten in besonderen Situationen
URL:https://xn--dufhrst-7wa.de/termin/osterstr-bad-salzuflen-unterricht-thema-11-4/
LOCATION:Osterstr. 39\, 32105 Bad Salzuflen
END:VEVENT
BEGIN:VEVENT
DTSTART;TZID=Europe/Berlin:20260401T164500
DTEND;TZID=Europe/Berlin:20260401T181500
DTSTAMP:20260420T174054
CREATED:20260311T102057Z
LAST-MODIFIED:20260311T102057Z
UID:10005310-1775061900-1775067300@xn--dufhrst-7wa.de
SUMMARY:Rennstr. Herford Theorie Intensivkurs Thema 5
DESCRIPTION:Vorfahrt
URL:https://xn--dufhrst-7wa.de/termin/rennstr-herford-theorie-intensivkurs-thema-5/
LOCATION:Rennstr. 11\, 32052 Herford
END:VEVENT
BEGIN:VEVENT
DTSTART;TZID=Europe/Berlin:20260331T183000
DTEND;TZID=Europe/Berlin:20260331T200000
DTSTAMP:20260420T174054
CREATED:20260311T100412Z
LAST-MODIFIED:20260311T100412Z
UID:10005307-1774981800-1774987200@xn--dufhrst-7wa.de
SUMMARY:Elverdisser Str. Theorie Intensivkurs Thema 4
DESCRIPTION:Straßenverkehrssystem und seine Nutzung
URL:https://xn--dufhrst-7wa.de/termin/elverdisser-str-theorie-intensivkurs-thema-4/
LOCATION:Elverdisser Str. 53 – 55 32052 Herford
END:VEVENT
BEGIN:VEVENT
DTSTART;TZID=Europe/Berlin:20260331T183000
DTEND;TZID=Europe/Berlin:20260331T200000
DTSTAMP:20260420T174054
CREATED:20251222T160432Z
LAST-MODIFIED:20260122T083606Z
UID:10005282-1774981800-1774987200@xn--dufhrst-7wa.de
SUMMARY:Herforder Str. Löhne Unterricht Thema B2
DESCRIPTION:Fahren mit Solokraftfahrzeugen und Zügen\, Personen- und Güterbeförderung
URL:https://xn--dufhrst-7wa.de/termin/herforder-str-loehne-unterricht-thema-12-3/
LOCATION:Herforder Str. 12 32584 Löhne
END:VEVENT
BEGIN:VEVENT
DTSTART;TZID=Europe/Berlin:20260331T183000
DTEND;TZID=Europe/Berlin:20260331T200000
DTSTAMP:20260420T174054
CREATED:20251222T110224Z
LAST-MODIFIED:20251222T110224Z
UID:10005219-1774981800-1774987200@xn--dufhrst-7wa.de
SUMMARY:Salzufler Str. Bad Salzuflen Unterricht Thema 10
DESCRIPTION:Ruhender Verkehr
URL:https://xn--dufhrst-7wa.de/termin/salzufler-str-bad-salzuflen-unterricht-thema-10-3/
LOCATION:Salzufler Str. 2 32108 Bad Salzuflen
END:VEVENT
BEGIN:VEVENT
DTSTART;TZID=Europe/Berlin:20260331T183000
DTEND;TZID=Europe/Berlin:20260331T200000
DTSTAMP:20260420T174054
CREATED:20251218T104137Z
LAST-MODIFIED:20251218T104137Z
UID:10005104-1774981800-1774987200@xn--dufhrst-7wa.de
SUMMARY:Oldentruper Str. (Marktkauf) Bielefeld Unterricht Thema 10
DESCRIPTION:Ruhender Verkehr
URL:https://xn--dufhrst-7wa.de/termin/oldentruper-str-marktkauf-bielefeld-unterricht-thema-10-2/
LOCATION:Oldentruper Str. 236\, 33719 Bielefeld
END:VEVENT
END:VCALENDAR