BEGIN:VCALENDAR
VERSION:2.0
PRODID:-//DU FÄHRST - ECPv6.15.18//NONSGML v1.0//EN
CALSCALE:GREGORIAN
METHOD:PUBLISH
X-WR-CALNAME:DU FÄHRST
X-ORIGINAL-URL:https://xn--dufhrst-7wa.de
X-WR-CALDESC:Veranstaltungen für DU FÄHRST
REFRESH-INTERVAL;VALUE=DURATION:PT1H
X-Robots-Tag:noindex
X-PUBLISHED-TTL:PT1H
BEGIN:VTIMEZONE
TZID:Europe/Berlin
BEGIN:DAYLIGHT
TZOFFSETFROM:+0100
TZOFFSETTO:+0200
TZNAME:CEST
DTSTART:20250330T010000
END:DAYLIGHT
BEGIN:STANDARD
TZOFFSETFROM:+0200
TZOFFSETTO:+0100
TZNAME:CET
DTSTART:20251026T010000
END:STANDARD
BEGIN:DAYLIGHT
TZOFFSETFROM:+0100
TZOFFSETTO:+0200
TZNAME:CEST
DTSTART:20260329T010000
END:DAYLIGHT
BEGIN:STANDARD
TZOFFSETFROM:+0200
TZOFFSETTO:+0100
TZNAME:CET
DTSTART:20261025T010000
END:STANDARD
BEGIN:DAYLIGHT
TZOFFSETFROM:+0100
TZOFFSETTO:+0200
TZNAME:CEST
DTSTART:20270328T010000
END:DAYLIGHT
BEGIN:STANDARD
TZOFFSETFROM:+0200
TZOFFSETTO:+0100
TZNAME:CET
DTSTART:20271031T010000
END:STANDARD
END:VTIMEZONE
BEGIN:VEVENT
DTSTART;TZID=Europe/Berlin:20260420T183000
DTEND;TZID=Europe/Berlin:20260420T200000
DTSTAMP:20260420T153941
CREATED:20260326T093318Z
LAST-MODIFIED:20260326T093318Z
UID:10005365-1776709800-1776715200@xn--dufhrst-7wa.de
SUMMARY:Herforder Str. Bad Oeynhausen Unterricht Thema 7
DESCRIPTION:Geschwindigkeiten\, Abstand und umweltschonende Fahrweise
URL:https://xn--dufhrst-7wa.de/termin/herforder-str-bad-oeynhausen-unterricht-thema-7/
LOCATION:Herforder Straße 82\, 32545 Bad Oeynhausen
END:VEVENT
BEGIN:VEVENT
DTSTART;TZID=Europe/Berlin:20260420T183000
DTEND;TZID=Europe/Berlin:20260420T200000
DTSTAMP:20260420T153941
CREATED:20260326T094952Z
LAST-MODIFIED:20260401T142404Z
UID:10005373-1776709800-1776715200@xn--dufhrst-7wa.de
SUMMARY:Rennstr. Herford Unterricht Thema 7
DESCRIPTION:Geschwindigkeiten\, Abstand und umweltschonende Fahrweise
URL:https://xn--dufhrst-7wa.de/termin/rennstr-herford-unterricht-thema-8/
LOCATION:Rennstr. 11\, 32052 Herford
END:VEVENT
BEGIN:VEVENT
DTSTART;TZID=Europe/Berlin:20260420T183000
DTEND;TZID=Europe/Berlin:20260420T200000
DTSTAMP:20260420T153941
CREATED:20260326T130053Z
LAST-MODIFIED:20260326T130053Z
UID:10005391-1776709800-1776715200@xn--dufhrst-7wa.de
SUMMARY:Osterstr. Bad Salzuflen Unterricht Thema 3
DESCRIPTION:Verkehrszeichen und Verkehrseinrichtungen
URL:https://xn--dufhrst-7wa.de/termin/osterstr-bad-salzuflen-unterricht-thema-3/
LOCATION:Osterstr. 39\, 32105 Bad Salzuflen
END:VEVENT
BEGIN:VEVENT
DTSTART;TZID=Europe/Berlin:20260421T164500
DTEND;TZID=Europe/Berlin:20260421T181500
DTSTAMP:20260420T153941
CREATED:20260325T151945Z
LAST-MODIFIED:20260326T074859Z
UID:10005346-1776789900-1776795300@xn--dufhrst-7wa.de
SUMMARY:Intensivkurs Salzufler Str. Bad Salzuflen Thema 5 (Voranmeldung Notwendig)
DESCRIPTION:Vorfahrt
URL:https://xn--dufhrst-7wa.de/termin/intensivkurs-salzufler-str-bad-salzuflen-thema-5-voranmeldung-notwendig/
LOCATION:Salzufler Str. 2 32108 Bad Salzuflen
END:VEVENT
BEGIN:VEVENT
DTSTART;TZID=Europe/Berlin:20260421T183000
DTEND;TZID=Europe/Berlin:20260421T200000
DTSTAMP:20260420T153941
CREATED:20260319T070325Z
LAST-MODIFIED:20260401T142518Z
UID:10005329-1776796200-1776801600@xn--dufhrst-7wa.de
SUMMARY:Elverdisser Str. Herford Unterricht Thema 8
DESCRIPTION:Andere Teilnehmer im Straßenverkehr: Besonderheiten und Verhalten
URL:https://xn--dufhrst-7wa.de/termin/elverdisser-str-herford-unterricht-thema-9/
LOCATION:Elverdisser Str. 53 – 55 32052 Herford
END:VEVENT
BEGIN:VEVENT
DTSTART;TZID=Europe/Berlin:20260421T183000
DTEND;TZID=Europe/Berlin:20260421T200000
DTSTAMP:20260420T153941
CREATED:20260325T152110Z
LAST-MODIFIED:20260325T152110Z
UID:10005347-1776796200-1776801600@xn--dufhrst-7wa.de
SUMMARY:Intensivkurs Salzufler Str. Bad Salzuflen Thema 7 (Voranmeldung Notwendig)
DESCRIPTION:Geschwindigkeiten\, Abstand und umweltschonende Fahrweise
URL:https://xn--dufhrst-7wa.de/termin/intensivkurs-salzufler-str-bad-salzuflen-thema-7-voranmeldung-notwendig/
LOCATION:Salzufler Str. 2 32108 Bad Salzuflen
END:VEVENT
BEGIN:VEVENT
DTSTART;TZID=Europe/Berlin:20260421T183000
DTEND;TZID=Europe/Berlin:20260421T200000
DTSTAMP:20260420T153941
CREATED:20260326T094432Z
LAST-MODIFIED:20260326T094432Z
UID:10005371-1776796200-1776801600@xn--dufhrst-7wa.de
SUMMARY:Herforder Str. Löhne Unterricht Thema 8
DESCRIPTION:Andere Teilnehmer im Straßenverkehr: Besonderheiten und Verhalten
URL:https://xn--dufhrst-7wa.de/termin/herforder-str-loehne-unterricht-thema-8/
LOCATION:Herforder Str. 12 32584 Löhne
END:VEVENT
BEGIN:VEVENT
DTSTART;TZID=Europe/Berlin:20260421T183000
DTEND;TZID=Europe/Berlin:20260421T200000
DTSTAMP:20260420T153941
CREATED:20260326T112930Z
LAST-MODIFIED:20260326T112930Z
UID:10005384-1776796200-1776801600@xn--dufhrst-7wa.de
SUMMARY:Oldentruper Str. (Marktkauf) Bielefeld Unterricht Thema 2
DESCRIPTION:Rechtliche Rahmenbedingungen
URL:https://xn--dufhrst-7wa.de/termin/oldentruper-str-marktkauf-bielefeld-unterricht-thema-2-2/
LOCATION:Oldentruper Str. 236\, 33719 Bielefeld
END:VEVENT
BEGIN:VEVENT
DTSTART;TZID=Europe/Berlin:20260421T183000
DTEND;TZID=Europe/Berlin:20260421T200000
DTSTAMP:20260420T153941
CREATED:20260326T133830Z
LAST-MODIFIED:20260326T133830Z
UID:10005397-1776796200-1776801600@xn--dufhrst-7wa.de
SUMMARY:Salzufler Str. Bad Salzuflen Unterricht Thema 4
DESCRIPTION:Straßenverkehrssystem und seine Nutzung
URL:https://xn--dufhrst-7wa.de/termin/salzufler-str-bad-salzuflen-unterricht-thema-4/
LOCATION:Salzufler Str. 2 32108 Bad Salzuflen
END:VEVENT
BEGIN:VEVENT
DTSTART;TZID=Europe/Berlin:20260422T080000
DTEND;TZID=Europe/Berlin:20260422T093000
DTSTAMP:20260420T153941
CREATED:20260325T152317Z
LAST-MODIFIED:20260330T081423Z
UID:10005348-1776844800-1776850200@xn--dufhrst-7wa.de
SUMMARY:Intensivkurs Salzufler Str. Bad Salzuflen Thema C3 (Voranmeldung Notwendig)
DESCRIPTION:besondere Vorschriften aus der Straßenverkehrsordnung
URL:https://xn--dufhrst-7wa.de/termin/intensivkurs-salzufler-str-bad-salzuflen-thema-c3-voranmeldung-notwendig/
LOCATION:Salzufler Str. 2 32108 Bad Salzuflen
END:VEVENT
BEGIN:VEVENT
DTSTART;TZID=Europe/Berlin:20260422T094500
DTEND;TZID=Europe/Berlin:20260422T111500
DTSTAMP:20260420T153941
CREATED:20260325T152430Z
LAST-MODIFIED:20260330T081655Z
UID:10005349-1776851100-1776856500@xn--dufhrst-7wa.de
SUMMARY:Intensivkurs Salzufler Str. Bad Salzuflen Thema C4 (Voranmeldung Notwendig)
DESCRIPTION:Fahrwerk/Elektrische Anlagen
URL:https://xn--dufhrst-7wa.de/termin/intensivkurs-salzufler-str-bad-salzuflen-thema-c4-voranmeldung-notwendig/
LOCATION:Salzufler Str. 2 32108 Bad Salzuflen
END:VEVENT
BEGIN:VEVENT
DTSTART;TZID=Europe/Berlin:20260422T183000
DTEND;TZID=Europe/Berlin:20260422T200000
DTSTAMP:20260420T153941
CREATED:20260326T093420Z
LAST-MODIFIED:20260326T093420Z
UID:10005366-1776882600-1776888000@xn--dufhrst-7wa.de
SUMMARY:Herforder Str. Bad Oeynhausen Unterricht Thema 9
DESCRIPTION:Verkehrsverhalten bei Fahrmanövern\, Verkehrsbeobachtung
URL:https://xn--dufhrst-7wa.de/termin/herforder-str-bad-oeynhausen-unterricht-thema-9/
LOCATION:Herforder Straße 82\, 32545 Bad Oeynhausen
END:VEVENT
BEGIN:VEVENT
DTSTART;TZID=Europe/Berlin:20260422T183000
DTEND;TZID=Europe/Berlin:20260422T200000
DTSTAMP:20260420T153941
CREATED:20260326T095107Z
LAST-MODIFIED:20260401T142724Z
UID:10005374-1776882600-1776888000@xn--dufhrst-7wa.de
SUMMARY:Rennstr. Herford Unterricht Thema 9
DESCRIPTION:Verkehrsverhalten bei Fahrmanövern\, Verkehrsbeobachtung
URL:https://xn--dufhrst-7wa.de/termin/rennstr-herford-unterricht-thema-10/
LOCATION:Rennstr. 11\, 32052 Herford
END:VEVENT
BEGIN:VEVENT
DTSTART;TZID=Europe/Berlin:20260422T183000
DTEND;TZID=Europe/Berlin:20260422T200000
DTSTAMP:20260420T153941
CREATED:20260326T130202Z
LAST-MODIFIED:20260326T130202Z
UID:10005392-1776882600-1776888000@xn--dufhrst-7wa.de
SUMMARY:Osterstr. Bad Salzuflen Unterricht Thema 5
DESCRIPTION:Vorfahrt
URL:https://xn--dufhrst-7wa.de/termin/osterstr-bad-salzuflen-unterricht-thema-5/
LOCATION:Osterstr. 39\, 32105 Bad Salzuflen
END:VEVENT
BEGIN:VEVENT
DTSTART;TZID=Europe/Berlin:20260422T183000
DTEND;TZID=Europe/Berlin:20260422T200000
DTSTAMP:20260420T153941
CREATED:20260326T151348Z
LAST-MODIFIED:20260326T151348Z
UID:10005407-1776882600-1776888000@xn--dufhrst-7wa.de
SUMMARY:Brunnenallee Bünde Unterricht Thema 12 (Voranmeldung bis 20.04 18:00 Uhr bei 015780530059)
DESCRIPTION:Lebenslanges Lernen/Folgen von Verstößen gegen Verkehrsvorschriften
URL:https://xn--dufhrst-7wa.de/termin/brunnenallee-buende-unterricht-thema-12-voranmeldung-bis-20-04-1800-uhr-bei-015780530059/
LOCATION:Brunnenallee 131\, 32257 Bünde
END:VEVENT
BEGIN:VEVENT
DTSTART;TZID=Europe/Berlin:20260423T080000
DTEND;TZID=Europe/Berlin:20260423T093000
DTSTAMP:20260420T153941
CREATED:20260325T152553Z
LAST-MODIFIED:20260330T081850Z
UID:10005350-1776931200-1776936600@xn--dufhrst-7wa.de
SUMMARY:Intensivkurs Salzufler Str. Bad Salzuflen Thema C5 (Voranmeldung Notwendig)
DESCRIPTION:Kraftstrang
URL:https://xn--dufhrst-7wa.de/termin/intensivkurs-salzufler-str-bad-salzuflen-thema-c5-voranmeldung-notwendig/
LOCATION:Salzufler Str. 2 32108 Bad Salzuflen
END:VEVENT
BEGIN:VEVENT
DTSTART;TZID=Europe/Berlin:20260423T094500
DTEND;TZID=Europe/Berlin:20260423T111500
DTSTAMP:20260420T153941
CREATED:20260325T152712Z
LAST-MODIFIED:20260330T082056Z
UID:10005351-1776937500-1776942900@xn--dufhrst-7wa.de
SUMMARY:Intensivkurs Salzufler Str. Bad Salzuflen Thema C6 (Voranmeldung Notwendig)
DESCRIPTION:Verkehrsregelungen/Bahnübergänge
URL:https://xn--dufhrst-7wa.de/termin/intensivkurs-salzufler-str-bad-salzuflen-thema-6-voranmeldung-notwendig/
LOCATION:Salzufler Str. 2 32108 Bad Salzuflen
END:VEVENT
BEGIN:VEVENT
DTSTART;TZID=Europe/Berlin:20260423T183000
DTEND;TZID=Europe/Berlin:20260423T200000
DTSTAMP:20260420T153941
CREATED:20260318T143105Z
LAST-MODIFIED:20260401T142829Z
UID:10005320-1776969000-1776974400@xn--dufhrst-7wa.de
SUMMARY:Salzufler Str. Herford Unterricht Thema 10
DESCRIPTION:Ruhender Verkehr
URL:https://xn--dufhrst-7wa.de/termin/salzufler-str-herford-unterricht-thema-11-2/
LOCATION:Salzufler Str. 147 32052 Herford\, Salzufler Str. 147\, Herford\, 32052
END:VEVENT
BEGIN:VEVENT
DTSTART;TZID=Europe/Berlin:20260423T183000
DTEND;TZID=Europe/Berlin:20260423T200000
DTSTAMP:20260420T153941
CREATED:20260326T113047Z
LAST-MODIFIED:20260326T113047Z
UID:10005385-1776969000-1776974400@xn--dufhrst-7wa.de
SUMMARY:Oldentruper Str. (Marktkauf) Bielefeld Unterricht Thema 3
DESCRIPTION:Verkehrszeichen und Verkehrseinrichtungen
URL:https://xn--dufhrst-7wa.de/termin/oldentruper-str-marktkauf-bielefeld-unterricht-thema-3/
LOCATION:Oldentruper Str. 236\, 33719 Bielefeld
END:VEVENT
BEGIN:VEVENT
DTSTART;TZID=Europe/Berlin:20260423T183000
DTEND;TZID=Europe/Berlin:20260423T200000
DTSTAMP:20260420T153941
CREATED:20260326T150153Z
LAST-MODIFIED:20260326T150153Z
UID:10005402-1776969000-1776974400@xn--dufhrst-7wa.de
SUMMARY:Bünder Str. Sundern Unterricht Thema B1
DESCRIPTION:Technische Bedingungen/umweltbewusster Umgang mit Kraftfahrzeugen
URL:https://xn--dufhrst-7wa.de/termin/buender-str-sundern-unterricht-thema-b1/
LOCATION:Bünder Str. 57 32120 Hiddenhausen
END:VEVENT
BEGIN:VEVENT
DTSTART;TZID=Europe/Berlin:20260424T080000
DTEND;TZID=Europe/Berlin:20260424T093000
DTSTAMP:20260420T153941
CREATED:20260325T152932Z
LAST-MODIFIED:20260330T082758Z
UID:10005352-1777017600-1777023000@xn--dufhrst-7wa.de
SUMMARY:Intensivkurs Salzufler Str. Bad Salzuflen Thema C7 (Voranmeldung Notwendig)
DESCRIPTION:LKW-Bremsen II
URL:https://xn--dufhrst-7wa.de/termin/intensivkurs-salzufler-str-bad-salzuflen-thema-c7-voranmeldung-notwendig/
LOCATION:Salzufler Str. 2 32108 Bad Salzuflen
END:VEVENT
BEGIN:VEVENT
DTSTART;TZID=Europe/Berlin:20260424T094500
DTEND;TZID=Europe/Berlin:20260424T111500
DTSTAMP:20260420T153941
CREATED:20260325T153626Z
LAST-MODIFIED:20260330T083220Z
UID:10005353-1777023900-1777029300@xn--dufhrst-7wa.de
SUMMARY:Intensivkurs Salzufler Str. Bad Salzuflen Thema C8 (Voranmeldung Notwendig)
DESCRIPTION:LKW-Bremsen und Fahrzeuguntersuchungen; Geschwindigkeitsregler; Ausrüstungs- und Beförderungsbestimmungen
URL:https://xn--dufhrst-7wa.de/termin/intensivkurs-salzufler-str-bad-salzuflen-thema-c8-voranmeldung-notwendig/
LOCATION:Salzufler Str. 2 32108 Bad Salzuflen
END:VEVENT
BEGIN:VEVENT
DTSTART;TZID=Europe/Berlin:20260425T080000
DTEND;TZID=Europe/Berlin:20260425T160000
DTSTAMP:20260420T153941
CREATED:20260113T105626Z
LAST-MODIFIED:20260113T105626Z
UID:10005299-1777104000-1777132800@xn--dufhrst-7wa.de
SUMMARY:BKF-Weiterbildung: Modul 1-Eco-Training & Assistenzs (Voranmeldung erforderlich)
DESCRIPTION:Eco-Training & Assistenzs
URL:https://xn--dufhrst-7wa.de/termin/bkf-weiterbildung-modul-1-eco-training-assistenzs-voranmeldung-erforderlich-3/
LOCATION:Salzufler Str. 2 32108 Bad Salzuflen
END:VEVENT
BEGIN:VEVENT
DTSTART;TZID=Europe/Berlin:20260425T133000
DTEND;TZID=Europe/Berlin:20260425T150000
DTSTAMP:20260420T153941
CREATED:20260326T100438Z
LAST-MODIFIED:20260401T143052Z
UID:10005379-1777123800-1777129200@xn--dufhrst-7wa.de
SUMMARY:Rennstr. Herford Unterricht Thema 11
DESCRIPTION:Verhalten in besonderen Situationen
URL:https://xn--dufhrst-7wa.de/termin/rennstr-herford-unterricht-thema-12/
LOCATION:Rennstr. 11\, 32052 Herford
END:VEVENT
BEGIN:VEVENT
DTSTART;TZID=Europe/Berlin:20260427T090000
DTEND;TZID=Europe/Berlin:20260427T103000
DTSTAMP:20260420T153941
CREATED:20260325T155949Z
LAST-MODIFIED:20260330T083416Z
UID:10005354-1777280400-1777285800@xn--dufhrst-7wa.de
SUMMARY:Intensivkurs Salzufler Str. Bad Salzuflen Unterricht Thema C9 (Voranmeldung Notwendig)
DESCRIPTION:Transportvorschriften/Ladungssicherung
URL:https://xn--dufhrst-7wa.de/termin/salzufler-str-bad-salzuflen-unterricht-thema-c9-voranmeldung-notwendig/
LOCATION:Salzufler Str. 2 32108 Bad Salzuflen
END:VEVENT
BEGIN:VEVENT
DTSTART;TZID=Europe/Berlin:20260427T104500
DTEND;TZID=Europe/Berlin:20260427T121500
DTSTAMP:20260420T153941
CREATED:20260325T160110Z
LAST-MODIFIED:20260330T083642Z
UID:10005355-1777286700-1777292100@xn--dufhrst-7wa.de
SUMMARY:Intensivkurs Salzufler Str. Bad Salzuflen Unterricht Thema C10 (Voranmeldung Notwendig)
DESCRIPTION:Wirtschaftliches und umweltschonendes Fahren/Streckenplanung/Straßenkarte
URL:https://xn--dufhrst-7wa.de/termin/salzufler-str-bad-salzuflen-unterricht-thema-c10-voranmeldung-notwendig/
LOCATION:Salzufler Str. 2 32108 Bad Salzuflen
END:VEVENT
BEGIN:VEVENT
DTSTART;TZID=Europe/Berlin:20260427T183000
DTEND;TZID=Europe/Berlin:20260427T200000
DTSTAMP:20260420T153941
CREATED:20260326T093655Z
LAST-MODIFIED:20260326T093655Z
UID:10005367-1777314600-1777320000@xn--dufhrst-7wa.de
SUMMARY:Herforder Str. Bad Oeynhausen Unterricht Thema 10
DESCRIPTION:Ruhender Verkehr
URL:https://xn--dufhrst-7wa.de/termin/herforder-str-bad-oeynhausen-unterricht-thema-10/
LOCATION:Herforder Straße 82\, 32545 Bad Oeynhausen
END:VEVENT
BEGIN:VEVENT
DTSTART;TZID=Europe/Berlin:20260427T183000
DTEND;TZID=Europe/Berlin:20260427T200000
DTSTAMP:20260420T153941
CREATED:20260326T095507Z
LAST-MODIFIED:20260401T143159Z
UID:10005375-1777314600-1777320000@xn--dufhrst-7wa.de
SUMMARY:Rennstr. Herford Unterricht Thema 12
DESCRIPTION:Lebenslanges Lernen/Folgen von Verstößen gegen Verkehrsvorschriften
URL:https://xn--dufhrst-7wa.de/termin/rennstr-herford-unterricht-thema-b1/
LOCATION:Rennstr. 11\, 32052 Herford
END:VEVENT
BEGIN:VEVENT
DTSTART;TZID=Europe/Berlin:20260427T183000
DTEND;TZID=Europe/Berlin:20260427T200000
DTSTAMP:20260420T153941
CREATED:20260326T130328Z
LAST-MODIFIED:20260326T130328Z
UID:10005393-1777314600-1777320000@xn--dufhrst-7wa.de
SUMMARY:Osterstr. Bad Salzuflen Unterricht Thema 6
DESCRIPTION:Verkehrsreglungen/Bahnübergänge
URL:https://xn--dufhrst-7wa.de/termin/osterstr-bad-salzuflen-unterricht-thema-6/
LOCATION:Osterstr. 39\, 32105 Bad Salzuflen
END:VEVENT
BEGIN:VEVENT
DTSTART;TZID=Europe/Berlin:20260428T164500
DTEND;TZID=Europe/Berlin:20260428T181500
DTSTAMP:20260420T153941
CREATED:20260325T162814Z
LAST-MODIFIED:20260326T080655Z
UID:10005356-1777394700-1777400100@xn--dufhrst-7wa.de
SUMMARY:Intensivkurs Salzufler Str. Bad Salzuflen Unterricht Thema 8 (Voranmeldung Notwendig)
DESCRIPTION:Andere Teilnehmer im Straßenverkehr: Besonderheiten und Verhalten
URL:https://xn--dufhrst-7wa.de/termin/salzufler-str-bad-salzuflen-unterricht-thema-8-voranmeldung-notwendig/
LOCATION:Salzufler Str. 2 32108 Bad Salzuflen
END:VEVENT
END:VCALENDAR